BEGIN:VCALENDAR
VERSION:2.0
PRODID:-//Southern Oregon Magazine - ECPv6.15.20//NONSGML v1.0//EN
CALSCALE:GREGORIAN
METHOD:PUBLISH
X-WR-CALNAME:Southern Oregon Magazine
X-ORIGINAL-URL:https://southernoregonmagazine.com
X-WR-CALDESC:Events for Southern Oregon Magazine
REFRESH-INTERVAL;VALUE=DURATION:PT1H
X-Robots-Tag:noindex
X-PUBLISHED-TTL:PT1H
BEGIN:VTIMEZONE
TZID:UTC
BEGIN:STANDARD
TZOFFSETFROM:+0000
TZOFFSETTO:+0000
TZNAME:UTC
DTSTART:20250101T000000
END:STANDARD
END:VTIMEZONE
BEGIN:VEVENT
DTSTART;TZID=UTC:20260422T170000
DTEND;TZID=UTC:20260422T193000
DTSTAMP:20260422T071203
CREATED:20260313T191349Z
LAST-MODIFIED:20260313T191349Z
UID:10000589-1776877200-1776886200@southernoregonmagazine.com
SUMMARY:Earth Day A Street Block Party
DESCRIPTION:ASHLAND\, OR — In its second year Earth Day A Street Block Party is getting bigger and louder! This free\, family-friendly event transforms Ashland’s A Street corridor (between 2nd and 5thStreets) into a vibrant hub of environmental education\, local artisans\, live music\, and community connection. It is scheduled for Wednesday\, April 22\, between 5 and 7:30PM. \n“This event is about moving from awareness to action and about bringing community together\,” says Karolina Lavagnino of Wild Thyme Productions. “In partnership with our sponsor KS Wild\, and with grant support from City of Ashland we’re bringing together nonprofits\, local businesses\, families\, and outdoor enthusiasts to celebrate our shared commitment to protecting the environment while supporting our local economy and building community connections.” \nLIVE MUSIC THROUGHOUT A STREET \nMultiple stages will feature diverse musical acts: \n\nElbow Room Taiko Drummers – Traditional Japanese drumming at 5PM\nEight Dollar Mountain – High energy bluegrass band from 6PM\nPozitronics – Performing near KS Wild headquarters from 5:30PM\nAcoustic performance by Chrisman & Smith at La Baguette Music Café from 5:30PM\nDJ Koda B – at Ashland Recycled Furniture from 6PM\n\nLOCAL FOOD & BEVERAGES \nFood trucks including Tacos Libertad\, Eat Pistola’s\, and The Allium Wood Fired Pizza will serve throughout the evening. A street-based eateries and restaurants including Tlalli\, Slow Burn BBQ now at La Baguette Café\, Masala\, and other will be open to welcome hungry crowds. The Brickroom presents a Beer Garden featuring craft beverages\, while Resistance Wine Co. and Circadian Cellars will be joining us with their selection of wines. Other food artisans joining in celebrations include: Southern Oregon Sourdough\, \nA STREET BUSINESS PARTNERSHIPS \nLocal\, A Street-based businesses are integral partners in this celebration\, offering Earth Day specials\, educational demos\, and unique activities: \n\nKS Wild – Screen printing with Talent Maker City\, live music\, food and wine\nAshland Recycled Furniture – Earth Day specials and DJ Koda B\nGrange Coop – Earth Day plants sale\nACE Hardware\nAshland Yoga Center – TBA\nSunday Afternoons\nBlue Marble\nAshland Food Co-op – In-store specials\, demos\, and kids’ activities\nLa Baguette Music Cafe – Live music and food by Slow Burn BBQ\nWellness Pet Supplies\nGet N Gear – recycled outdoor gear\, bikes\, boats\, shoes and clothing\n\nSUSTAINABLE VENDORS & UPCYCLED GOODS \nLocal artisan food makers\, craft vendors\, and vintage/upcycled clothing booths will showcase sustainable\, locally-made products that support both environmental values and the local economy. (example: Love Sweater Thrift & Vintage) \nENVIRONMENTAL EDUCATION & ENGAGEMENT \nA dozen conservation-focused nonprofits—including organizations dedicated to trail work\, watershed protection\, environmental action\, and land management—will share their work and inspire community involvement. Hands-on educational activities make environmental stewardship accessible and fun for all ages! \n\nSeed bomb making\nWatershed education stations\nNative plant identification\nEarth Day-themed face painting\nChalk art creation\nComposting demonstrations\n\nGET OUTSIDE & GET ACTIVE \nLocal outdoor recreation groups will be on hand to encourage community members to explore Southern Oregon’s incredible outdoor resources. \nBIKE TO THE EVENT \nIn partnership with Piccadilly Cycles\, free bike valet service will be available throughout the event\, making it easy and convenient for attendees to arrive car-free and reduce their carbon footprint. \nEVENT DETAILS: \n\nWhen: Tuesday\, April 22\, 2025 | 5:00-7:30 PM\nWhere: A Street\, Ashland\, between 2nd and 5th Streets\nCost: FREE and open to all\nParking: Bike encouraged! Free bike valet on 4th Street by Piccadilly Cycles\nSponsored by: City of Ashland and KS Wild\nProduced by: Wild Thyme Productions\nFollow the event: IG and FB @WildThymeProductions
URL:https://southernoregonmagazine.com/event/earth-day-a-street-block-party/
LOCATION:OR
END:VEVENT
END:VCALENDAR