BEGIN:VCALENDAR
VERSION:2.0
PRODID:-//Southern Oregon Magazine - ECPv6.15.20//NONSGML v1.0//EN
CALSCALE:GREGORIAN
METHOD:PUBLISH
X-WR-CALNAME:Southern Oregon Magazine
X-ORIGINAL-URL:https://southernoregonmagazine.com
X-WR-CALDESC:Events for Southern Oregon Magazine
REFRESH-INTERVAL;VALUE=DURATION:PT1H
X-Robots-Tag:noindex
X-PUBLISHED-TTL:PT1H
BEGIN:VTIMEZONE
TZID:UTC
BEGIN:STANDARD
TZOFFSETFROM:+0000
TZOFFSETTO:+0000
TZNAME:UTC
DTSTART:20250101T000000
END:STANDARD
END:VTIMEZONE
BEGIN:VEVENT
DTSTART;TZID=UTC:20260524T160000
DTEND;TZID=UTC:20260524T180000
DTSTAMP:20260423T014730
CREATED:20260423T004657Z
LAST-MODIFIED:20260423T004657Z
UID:10000604-1779638400-1779645600@southernoregonmagazine.com
SUMMARY:Alois Trio plays Rellik Winery
DESCRIPTION:Alois Trio plays Rellik Winery
URL:https://southernoregonmagazine.com/event/alois-trio-plays-rellik-winery/
LOCATION:Rellik Winery
END:VEVENT
BEGIN:VEVENT
DTSTART;TZID=UTC:20260524T103000
DTEND;TZID=UTC:20260524T130000
DTSTAMP:20260423T014730
CREATED:20250904T162711Z
LAST-MODIFIED:20250904T162711Z
UID:10000284-1779618600-1779627600@southernoregonmagazine.com
SUMMARY:Sunday Brunch at Rellik Winery
DESCRIPTION:Classic Sunday Brunch\nEvery Sunday 10:30am-1:00pm\n\n\n\n\n \n\n\n\nJoin us for Sunday Brunch at Rellik\, where fresh\, classic ingredients take center stage in every dish. Pair your meal with one of our flavorful mimosas – crafted to complement the morning sunshine and vineyard views. It’s the perfect way to slow down\, sip\, and savor your Sunday.
URL:https://southernoregonmagazine.com/event/sunday-brunch-at-rellik-winery-3/2026-05-24/
LOCATION:Rellik Winery
END:VEVENT
BEGIN:VEVENT
DTSTART;TZID=UTC:20260523T160000
DTEND;TZID=UTC:20260523T180000
DTSTAMP:20260423T014730
CREATED:20260423T004437Z
LAST-MODIFIED:20260423T004437Z
UID:10000603-1779552000-1779559200@southernoregonmagazine.com
SUMMARY:J Brothers Play Rellik Winery
DESCRIPTION:J Brothers Play Rellik Winery
URL:https://southernoregonmagazine.com/event/j-brothers-play-rellik-winery/
LOCATION:Rellik Winery
END:VEVENT
BEGIN:VEVENT
DTSTART;TZID=UTC:20260523T130000
DTEND;TZID=UTC:20260523T150000
DTSTAMP:20260423T014730
CREATED:20260227T163332Z
LAST-MODIFIED:20260227T163332Z
UID:10000569-1779541200-1779548400@southernoregonmagazine.com
SUMMARY:Museum Lab at ScienceWorks hands on museum
DESCRIPTION:MuseumLab invites kids to turn “What if?” into real experiments on Saturdays\nIntroducing MuseumLab\, a pop-up science lab inside ScienceWorks where kids ages 6 to 12 turn curiosity into real discovery. Led by educator and former lab scientist Ash Friend\, these two-hour weekend workshops invite participants to investigate big questions through playful\, hands-on challenges inspired by museum exhibits. Kids test ideas\, collect real data\, redesign experiments\, and collaborate — all in an active\, supportive environment. \nEach session stands alone\, and space is limited\, so registration is required. A minimum of four participants must be pre-registered for a session to run. Parents are welcome to participate alongside their child\, or drop off and return at pickup time. If your child loves asking “What if?” MuseumLab is the perfect place to explore. Sessions begin March 14. \nSaturdays\n1 to 3 PM\n$25 for members | $35 for non-members | financial aid available
URL:https://southernoregonmagazine.com/event/museum-lab-at-scienceworks-hands-on-museum/2026-05-23/
LOCATION:ScienceWorks Museum
END:VEVENT
BEGIN:VEVENT
DTSTART;TZID=UTC:20260522T200000
DTEND;TZID=UTC:20260522T220000
DTSTAMP:20260423T014730
CREATED:20251124T161839Z
LAST-MODIFIED:20251124T161839Z
UID:10000530-1779480000-1779487200@southernoregonmagazine.com
SUMMARY:THE MODERN GENTLEMEN Formerly of Frankie Valli & The Four Seasons
DESCRIPTION:
URL:https://southernoregonmagazine.com/event/the-modern-gentlemen-formerly-of-frankie-valli-the-four-seasons/
LOCATION:Holly Theatre\, 226 W 6th St.\, Medford\, OR\, 97501
END:VEVENT
BEGIN:VEVENT
DTSTART;TZID=UTC:20260521T180000
DTEND;TZID=UTC:20260521T200000
DTSTAMP:20260423T014730
CREATED:20260423T002117Z
LAST-MODIFIED:20260423T002117Z
UID:10000593-1779386400-1779393600@southernoregonmagazine.com
SUMMARY:Cribbage League at Rellik
DESCRIPTION:Join us for our monthly Rellik Cribbage League! We’ll provide the cribbage boards—just bring yourself and a teammate (or come ready to find one here!). The more\, the merrier\, so gather your friends and join the fun. \nThis lively\, competitive evening features prizes for 1st\, 2nd\, and 3rd place\, plus a grand prize awarded to the top team of the year. Grab a board\, enjoy a glass of wine\, and see if you have what it takes to climb the leader board! \nStart registering your teams today by calling or emailing the winery. \nWe can’t wait to see you at the tables!
URL:https://southernoregonmagazine.com/event/cribbage-league-at-rellik-2/
LOCATION:Rellik Winery
END:VEVENT
BEGIN:VEVENT
DTSTART;TZID=UTC:20260517T160000
DTEND;TZID=UTC:20260517T180000
DTSTAMP:20260423T014730
CREATED:20260423T004311Z
LAST-MODIFIED:20260423T004311Z
UID:10000602-1779033600-1779040800@southernoregonmagazine.com
SUMMARY:David Pinsky & Phil Newton play Rellik Winery
DESCRIPTION:David Pinsky & Phil Newton play Rellik Winery
URL:https://southernoregonmagazine.com/event/david-pinsky-phil-newton-play-rellik-winery-2/
LOCATION:Rellik Winery
END:VEVENT
BEGIN:VEVENT
DTSTART;TZID=UTC:20260517T103000
DTEND;TZID=UTC:20260517T130000
DTSTAMP:20260423T014730
CREATED:20250904T162711Z
LAST-MODIFIED:20250904T162711Z
UID:10000283-1779013800-1779022800@southernoregonmagazine.com
SUMMARY:Sunday Brunch at Rellik Winery
DESCRIPTION:Classic Sunday Brunch\nEvery Sunday 10:30am-1:00pm\n\n\n\n\n \n\n\n\nJoin us for Sunday Brunch at Rellik\, where fresh\, classic ingredients take center stage in every dish. Pair your meal with one of our flavorful mimosas – crafted to complement the morning sunshine and vineyard views. It’s the perfect way to slow down\, sip\, and savor your Sunday.
URL:https://southernoregonmagazine.com/event/sunday-brunch-at-rellik-winery-3/2026-05-17/
LOCATION:Rellik Winery
END:VEVENT
BEGIN:VEVENT
DTSTART;TZID=UTC:20260516T160000
DTEND;TZID=UTC:20260516T180000
DTSTAMP:20260423T014730
CREATED:20260423T004146Z
LAST-MODIFIED:20260423T004146Z
UID:10000601-1778947200-1778954400@southernoregonmagazine.com
SUMMARY:The Giantess at Rellik Winery
DESCRIPTION:The Giantess at Rellik Winery
URL:https://southernoregonmagazine.com/event/the-giantess-at-rellik-winery/
LOCATION:Rellik Winery
END:VEVENT
BEGIN:VEVENT
DTSTART;TZID=UTC:20260516T130000
DTEND;TZID=UTC:20260516T150000
DTSTAMP:20260423T014730
CREATED:20260227T163332Z
LAST-MODIFIED:20260227T163332Z
UID:10000568-1778936400-1778943600@southernoregonmagazine.com
SUMMARY:Museum Lab at ScienceWorks hands on museum
DESCRIPTION:MuseumLab invites kids to turn “What if?” into real experiments on Saturdays\nIntroducing MuseumLab\, a pop-up science lab inside ScienceWorks where kids ages 6 to 12 turn curiosity into real discovery. Led by educator and former lab scientist Ash Friend\, these two-hour weekend workshops invite participants to investigate big questions through playful\, hands-on challenges inspired by museum exhibits. Kids test ideas\, collect real data\, redesign experiments\, and collaborate — all in an active\, supportive environment. \nEach session stands alone\, and space is limited\, so registration is required. A minimum of four participants must be pre-registered for a session to run. Parents are welcome to participate alongside their child\, or drop off and return at pickup time. If your child loves asking “What if?” MuseumLab is the perfect place to explore. Sessions begin March 14. \nSaturdays\n1 to 3 PM\n$25 for members | $35 for non-members | financial aid available
URL:https://southernoregonmagazine.com/event/museum-lab-at-scienceworks-hands-on-museum/2026-05-16/
LOCATION:ScienceWorks Museum
END:VEVENT
BEGIN:VEVENT
DTSTART;TZID=UTC:20260515T170000
DTEND;TZID=UTC:20260515T190000
DTSTAMP:20260423T014730
CREATED:20260423T004044Z
LAST-MODIFIED:20260423T004044Z
UID:10000600-1778864400-1778871600@southernoregonmagazine.com
SUMMARY:Cathy Bolton Plays Rellik Winery
DESCRIPTION:Cathy Bolton Plays Rellik Winery
URL:https://southernoregonmagazine.com/event/cathy-bolton-plays-rellik-winery-2/
LOCATION:Rellik Winery
END:VEVENT
BEGIN:VEVENT
DTSTART;TZID=UTC:20260510T160000
DTEND;TZID=UTC:20260510T180000
DTSTAMP:20260423T014730
CREATED:20260423T002530Z
LAST-MODIFIED:20260423T002530Z
UID:10000595-1778428800-1778436000@southernoregonmagazine.com
SUMMARY:Dr. Pain & The Remedy At Rellik Winery
DESCRIPTION:Rock out with Mom this Mother’s Day!   \nAs one of Southern Oregon’s premier bands\, they specialize in Power Pop—energetic\, guitar-driven classic rock with rich\, four-part harmonies. From rock favorites to blues and country\, their tight sound is guaranteed to get you out of your seat and onto the\ndance floor. \nGrab a glass\, snag a slice\, and celebrate Mom with a high-energy vineyard afternoon you won’t forget!
URL:https://southernoregonmagazine.com/event/dr-pain-the-remedy-at-rellik-winery/
LOCATION:Rellik Winery
END:VEVENT
BEGIN:VEVENT
DTSTART;TZID=UTC:20260510T103000
DTEND;TZID=UTC:20260510T130000
DTSTAMP:20260423T014730
CREATED:20250904T162711Z
LAST-MODIFIED:20250904T162711Z
UID:10000282-1778409000-1778418000@southernoregonmagazine.com
SUMMARY:Sunday Brunch at Rellik Winery
DESCRIPTION:Classic Sunday Brunch\nEvery Sunday 10:30am-1:00pm\n\n\n\n\n \n\n\n\nJoin us for Sunday Brunch at Rellik\, where fresh\, classic ingredients take center stage in every dish. Pair your meal with one of our flavorful mimosas – crafted to complement the morning sunshine and vineyard views. It’s the perfect way to slow down\, sip\, and savor your Sunday.
URL:https://southernoregonmagazine.com/event/sunday-brunch-at-rellik-winery-3/2026-05-10/
LOCATION:Rellik Winery
END:VEVENT
BEGIN:VEVENT
DTSTART;TZID=UTC:20260509T160000
DTEND;TZID=UTC:20260509T180000
DTSTAMP:20260423T014730
CREATED:20260423T002326Z
LAST-MODIFIED:20260423T002326Z
UID:10000594-1778342400-1778349600@southernoregonmagazine.com
SUMMARY:Just a Duo plays at Rellik Winery
DESCRIPTION:Experience the “hidden gem” of the Rogue Valley!  We’re thrilled to host Just A Duo at Rellik Winery on May 9th at 4:00 PM for an afternoon of pure\, soulful harmony.\nAlbert Lee and Alois Henderson bring a special kind of magic to the stage\, blending guitar\, keys\, and breathtaking vocals into an eclectic set of songs you know by heart. Whether it’s their heartfelt originals or familiar favorites\, their chemistry and passion make for the ultimate vineyard vibe. \nCome see why this duo has taken the local scene by storm. Grab your friends and join us for a perfect Saturday at the winery!
URL:https://southernoregonmagazine.com/event/just-a-duo-plays-at-rellik-winery/
LOCATION:Rellik Winery
END:VEVENT
BEGIN:VEVENT
DTSTART;TZID=UTC:20260509T130000
DTEND;TZID=UTC:20260509T150000
DTSTAMP:20260423T014730
CREATED:20260227T163332Z
LAST-MODIFIED:20260227T163332Z
UID:10000567-1778331600-1778338800@southernoregonmagazine.com
SUMMARY:Museum Lab at ScienceWorks hands on museum
DESCRIPTION:MuseumLab invites kids to turn “What if?” into real experiments on Saturdays\nIntroducing MuseumLab\, a pop-up science lab inside ScienceWorks where kids ages 6 to 12 turn curiosity into real discovery. Led by educator and former lab scientist Ash Friend\, these two-hour weekend workshops invite participants to investigate big questions through playful\, hands-on challenges inspired by museum exhibits. Kids test ideas\, collect real data\, redesign experiments\, and collaborate — all in an active\, supportive environment. \nEach session stands alone\, and space is limited\, so registration is required. A minimum of four participants must be pre-registered for a session to run. Parents are welcome to participate alongside their child\, or drop off and return at pickup time. If your child loves asking “What if?” MuseumLab is the perfect place to explore. Sessions begin March 14. \nSaturdays\n1 to 3 PM\n$25 for members | $35 for non-members | financial aid available
URL:https://southernoregonmagazine.com/event/museum-lab-at-scienceworks-hands-on-museum/2026-05-09/
LOCATION:ScienceWorks Museum
END:VEVENT
BEGIN:VEVENT
DTSTART;TZID=UTC:20260509T100000
DTEND;TZID=UTC:20260510T150000
DTSTAMP:20260423T014730
CREATED:20260209T185806Z
LAST-MODIFIED:20260220T185719Z
UID:10000540-1778320800-1778425200@southernoregonmagazine.com
SUMMARY:5th Annual Clayfolk Spring Show and Sale at Edenvale winery
DESCRIPTION:Clayfolk presents the 5th annual outdoor SPRING SHOW AND SALE at EdenVale winery on Voorhies Road in Medford. Saturday\, May 9th  10:00-5:00 and Sunday\, May 10th 10:00-3:00 . Over 50  ceramic artisans will show a wide range of work throughout the gardens. Rain or shine.  Wine and food will be provided by EdenVale for purchase. Artist galleries and more information at Clayfolk.org
URL:https://southernoregonmagazine.com/event/5th-annual-clayfolk-spring-show-and-sale-at-edenvale-winery/
LOCATION:Edenvale Winery\, 2310 Voorhies Rd\, Medford\, OR\, 97501\, United States
END:VEVENT
BEGIN:VEVENT
DTSTART;TZID=UTC:20260508T170000
DTEND;TZID=UTC:20260508T190000
DTSTAMP:20260423T014730
CREATED:20260423T003608Z
LAST-MODIFIED:20260423T003608Z
UID:10000599-1778259600-1778266800@southernoregonmagazine.com
SUMMARY:Rick Millward plays Rellik Winery
DESCRIPTION:Rick Millward live at Rellik Winery
URL:https://southernoregonmagazine.com/event/rick-millward-plays-rellik-winery-2/
LOCATION:Rellik Winery
END:VEVENT
BEGIN:VEVENT
DTSTART;TZID=UTC:20260507T180000
DTEND;TZID=UTC:20260507T200000
DTSTAMP:20260423T014730
CREATED:20260423T002008Z
LAST-MODIFIED:20260423T002008Z
UID:10000592-1778176800-1778184000@southernoregonmagazine.com
SUMMARY:Cribbage League at Rellik
DESCRIPTION:Join us for our monthly Rellik Cribbage League! We’ll provide the cribbage boards—just bring yourself and a teammate (or come ready to find one here!). The more\, the merrier\, so gather your friends and join the fun. \nThis lively\, competitive evening features prizes for 1st\, 2nd\, and 3rd place\, plus a grand prize awarded to the top team of the year. Grab a board\, enjoy a glass of wine\, and see if you have what it takes to climb the leader board! \nStart registering your teams today by calling or emailing the winery. \nWe can’t wait to see you at the tables!
URL:https://southernoregonmagazine.com/event/cribbage-league-at-rellik/
LOCATION:Rellik Winery
END:VEVENT
BEGIN:VEVENT
DTSTART;TZID=UTC:20260503T160000
DTEND;TZID=UTC:20260503T180000
DTSTAMP:20260423T014730
CREATED:20260423T003208Z
LAST-MODIFIED:20260423T003208Z
UID:10000598-1777824000-1777831200@southernoregonmagazine.com
SUMMARY:Mike Brons plays Rellik Winery
DESCRIPTION:Mike Brons plays Rellik Winery
URL:https://southernoregonmagazine.com/event/mike-brons-plays-rellik-winery-3/
LOCATION:Rellik Winery
END:VEVENT
BEGIN:VEVENT
DTSTART;TZID=UTC:20260503T103000
DTEND;TZID=UTC:20260503T130000
DTSTAMP:20260423T014730
CREATED:20250904T162711Z
LAST-MODIFIED:20250904T162711Z
UID:10000281-1777804200-1777813200@southernoregonmagazine.com
SUMMARY:Sunday Brunch at Rellik Winery
DESCRIPTION:Classic Sunday Brunch\nEvery Sunday 10:30am-1:00pm\n\n\n\n\n \n\n\n\nJoin us for Sunday Brunch at Rellik\, where fresh\, classic ingredients take center stage in every dish. Pair your meal with one of our flavorful mimosas – crafted to complement the morning sunshine and vineyard views. It’s the perfect way to slow down\, sip\, and savor your Sunday.
URL:https://southernoregonmagazine.com/event/sunday-brunch-at-rellik-winery-3/2026-05-03/
LOCATION:Rellik Winery
END:VEVENT
BEGIN:VEVENT
DTSTART;TZID=UTC:20260502T160000
DTEND;TZID=UTC:20260502T180000
DTSTAMP:20260423T014730
CREATED:20260423T003031Z
LAST-MODIFIED:20260423T003031Z
UID:10000597-1777737600-1777744800@southernoregonmagazine.com
SUMMARY:Ann Kelly & Mark Ross live at Rellik Winery
DESCRIPTION:Ann Kelly & Mark Ross live at Rellik Winery
URL:https://southernoregonmagazine.com/event/ann-kelly-mark-ross-live-at-rellik-winery/
LOCATION:Rellik Winery
END:VEVENT
BEGIN:VEVENT
DTSTART;TZID=UTC:20260502T130000
DTEND;TZID=UTC:20260502T150000
DTSTAMP:20260423T014730
CREATED:20260227T163332Z
LAST-MODIFIED:20260227T163332Z
UID:10000566-1777726800-1777734000@southernoregonmagazine.com
SUMMARY:Museum Lab at ScienceWorks hands on museum
DESCRIPTION:MuseumLab invites kids to turn “What if?” into real experiments on Saturdays\nIntroducing MuseumLab\, a pop-up science lab inside ScienceWorks where kids ages 6 to 12 turn curiosity into real discovery. Led by educator and former lab scientist Ash Friend\, these two-hour weekend workshops invite participants to investigate big questions through playful\, hands-on challenges inspired by museum exhibits. Kids test ideas\, collect real data\, redesign experiments\, and collaborate — all in an active\, supportive environment. \nEach session stands alone\, and space is limited\, so registration is required. A minimum of four participants must be pre-registered for a session to run. Parents are welcome to participate alongside their child\, or drop off and return at pickup time. If your child loves asking “What if?” MuseumLab is the perfect place to explore. Sessions begin March 14. \nSaturdays\n1 to 3 PM\n$25 for members | $35 for non-members | financial aid available
URL:https://southernoregonmagazine.com/event/museum-lab-at-scienceworks-hands-on-museum/2026-05-02/
LOCATION:ScienceWorks Museum
END:VEVENT
BEGIN:VEVENT
DTSTART;TZID=UTC:20260502T110000
DTEND;TZID=UTC:20260502T170000
DTSTAMP:20260423T014730
CREATED:20260225T182730Z
LAST-MODIFIED:20260225T182924Z
UID:10000555-1777719600-1777741200@southernoregonmagazine.com
SUMMARY:Roam The Rogue Upper Rogue Wine Trail experience
DESCRIPTION:Roam the Rogue is the perfect way experience the Upper Rogue region of our valley. Wine’d through the beautiful and scenic Upper Rogue in this self-guided tour from 11-5pm on Saturday and savor 2 wines and 2 deliciously paired appetizers at all 6 participating wineries. Your ticket purchase also includes a commemorative Riedel wine glass to keep. Designated Driver tickets are available at $15 each and include appetizers and non-alcoholic beverage. \n \n 
URL:https://southernoregonmagazine.com/event/roam-the-rogue-2/
LOCATION:Del Rio Vineyard\, 52 N River Road\, Gold Hill\, OR
END:VEVENT
BEGIN:VEVENT
DTSTART;TZID=UTC:20260501T170000
DTEND;TZID=UTC:20260501T190000
DTSTAMP:20260423T014730
CREATED:20260423T002924Z
LAST-MODIFIED:20260423T002924Z
UID:10000596-1777654800-1777662000@southernoregonmagazine.com
SUMMARY:Connor Reese Live at Rellik Winery
DESCRIPTION:Connor Reese Live at Rellik Winery
URL:https://southernoregonmagazine.com/event/connor-reese-live-at-rellik-winery/
LOCATION:Rellik Winery
END:VEVENT
BEGIN:VEVENT
DTSTART;TZID=UTC:20260501T110000
DTEND;TZID=UTC:20260501T190000
DTSTAMP:20260423T014730
CREATED:20260225T182519Z
LAST-MODIFIED:20260225T182519Z
UID:10000554-1777633200-1777662000@southernoregonmagazine.com
SUMMARY:First Friday Happy Hour at Del Rio Vineyards with live music and extended hours
DESCRIPTION:We’re keeping the Tasting Room open for Happy Hour! All glasses are $7\nFeaturing live music from 5 – 7 p.m.\nIndoor seating is limited\, no pets please.
URL:https://southernoregonmagazine.com/event/first-friday-happy-hour-at-del-rio-vineyards-with-live-music-and-extended-hours/
LOCATION:Del Rio Vineyard\, 52 N River Road\, Gold Hill\, OR
END:VEVENT
BEGIN:VEVENT
DTSTART;TZID=UTC:20260426T103000
DTEND;TZID=UTC:20260426T130000
DTSTAMP:20260423T014730
CREATED:20250904T162711Z
LAST-MODIFIED:20250904T162711Z
UID:10000280-1777199400-1777208400@southernoregonmagazine.com
SUMMARY:Sunday Brunch at Rellik Winery
DESCRIPTION:Classic Sunday Brunch\nEvery Sunday 10:30am-1:00pm\n\n\n\n\n \n\n\n\nJoin us for Sunday Brunch at Rellik\, where fresh\, classic ingredients take center stage in every dish. Pair your meal with one of our flavorful mimosas – crafted to complement the morning sunshine and vineyard views. It’s the perfect way to slow down\, sip\, and savor your Sunday.
URL:https://southernoregonmagazine.com/event/sunday-brunch-at-rellik-winery-3/2026-04-26/
LOCATION:Rellik Winery
END:VEVENT
BEGIN:VEVENT
DTSTART;TZID=UTC:20260425T200000
DTEND;TZID=UTC:20260426T220000
DTSTAMP:20260423T014730
CREATED:20251211T161318Z
LAST-MODIFIED:20251211T163157Z
UID:10000534-1777147200-1777240800@southernoregonmagazine.com
SUMMARY:Grammy Nominated Sierra Hull live at the Holly Theatre
DESCRIPTION:Grammy Nominated artist and six time IBMA Mandolin Player of the Year Sierra Hull has reshaped the world of modern bluegrass and acoustic music. See her at the Holly Theatre playing songs from her newest album\, Tip Toe High Wire.
URL:https://southernoregonmagazine.com/event/grammy-nominated-sierra-hull-live-at-the-holly-theatre/
LOCATION:Holly Theatre\, 226 W 6th St.\, Medford\, OR\, 97501
END:VEVENT
BEGIN:VEVENT
DTSTART;TZID=UTC:20260425T130000
DTEND;TZID=UTC:20260425T150000
DTSTAMP:20260423T014730
CREATED:20260227T163332Z
LAST-MODIFIED:20260227T163332Z
UID:10000565-1777122000-1777129200@southernoregonmagazine.com
SUMMARY:Museum Lab at ScienceWorks hands on museum
DESCRIPTION:MuseumLab invites kids to turn “What if?” into real experiments on Saturdays\nIntroducing MuseumLab\, a pop-up science lab inside ScienceWorks where kids ages 6 to 12 turn curiosity into real discovery. Led by educator and former lab scientist Ash Friend\, these two-hour weekend workshops invite participants to investigate big questions through playful\, hands-on challenges inspired by museum exhibits. Kids test ideas\, collect real data\, redesign experiments\, and collaborate — all in an active\, supportive environment. \nEach session stands alone\, and space is limited\, so registration is required. A minimum of four participants must be pre-registered for a session to run. Parents are welcome to participate alongside their child\, or drop off and return at pickup time. If your child loves asking “What if?” MuseumLab is the perfect place to explore. Sessions begin March 14. \nSaturdays\n1 to 3 PM\n$25 for members | $35 for non-members | financial aid available
URL:https://southernoregonmagazine.com/event/museum-lab-at-scienceworks-hands-on-museum/2026-04-25/
LOCATION:ScienceWorks Museum
END:VEVENT
BEGIN:VEVENT
DTSTART;TZID=UTC:20260424T110000
DTEND;TZID=UTC:20260426T170000
DTSTAMP:20260423T014730
CREATED:20260225T181937Z
LAST-MODIFIED:20260225T181937Z
UID:10000553-1777028400-1777222800@southernoregonmagazine.com
SUMMARY:Cheesy Flight Weekend at Del Rio Vineyards
DESCRIPTION:Miss out on Oregon Cheese Festival? We’ve got you covered! Enjoy a special $15 cheese and wine pairing flight.
URL:https://southernoregonmagazine.com/event/cheesy-flight-weekend-at-del-rio-vineyards/
LOCATION:Del Rio Vineyard\, 52 N River Road\, Gold Hill\, OR
END:VEVENT
BEGIN:VEVENT
DTSTART;TZID=UTC:20260422T170000
DTEND;TZID=UTC:20260422T193000
DTSTAMP:20260423T014730
CREATED:20260313T191349Z
LAST-MODIFIED:20260313T191349Z
UID:10000589-1776877200-1776886200@southernoregonmagazine.com
SUMMARY:Earth Day A Street Block Party
DESCRIPTION:ASHLAND\, OR — In its second year Earth Day A Street Block Party is getting bigger and louder! This free\, family-friendly event transforms Ashland’s A Street corridor (between 2nd and 5thStreets) into a vibrant hub of environmental education\, local artisans\, live music\, and community connection. It is scheduled for Wednesday\, April 22\, between 5 and 7:30PM. \n“This event is about moving from awareness to action and about bringing community together\,” says Karolina Lavagnino of Wild Thyme Productions. “In partnership with our sponsor KS Wild\, and with grant support from City of Ashland we’re bringing together nonprofits\, local businesses\, families\, and outdoor enthusiasts to celebrate our shared commitment to protecting the environment while supporting our local economy and building community connections.” \nLIVE MUSIC THROUGHOUT A STREET \nMultiple stages will feature diverse musical acts: \n\nElbow Room Taiko Drummers – Traditional Japanese drumming at 5PM\nEight Dollar Mountain – High energy bluegrass band from 6PM\nPozitronics – Performing near KS Wild headquarters from 5:30PM\nAcoustic performance by Chrisman & Smith at La Baguette Music Café from 5:30PM\nDJ Koda B – at Ashland Recycled Furniture from 6PM\n\nLOCAL FOOD & BEVERAGES \nFood trucks including Tacos Libertad\, Eat Pistola’s\, and The Allium Wood Fired Pizza will serve throughout the evening. A street-based eateries and restaurants including Tlalli\, Slow Burn BBQ now at La Baguette Café\, Masala\, and other will be open to welcome hungry crowds. The Brickroom presents a Beer Garden featuring craft beverages\, while Resistance Wine Co. and Circadian Cellars will be joining us with their selection of wines. Other food artisans joining in celebrations include: Southern Oregon Sourdough\, \nA STREET BUSINESS PARTNERSHIPS \nLocal\, A Street-based businesses are integral partners in this celebration\, offering Earth Day specials\, educational demos\, and unique activities: \n\nKS Wild – Screen printing with Talent Maker City\, live music\, food and wine\nAshland Recycled Furniture – Earth Day specials and DJ Koda B\nGrange Coop – Earth Day plants sale\nACE Hardware\nAshland Yoga Center – TBA\nSunday Afternoons\nBlue Marble\nAshland Food Co-op – In-store specials\, demos\, and kids’ activities\nLa Baguette Music Cafe – Live music and food by Slow Burn BBQ\nWellness Pet Supplies\nGet N Gear – recycled outdoor gear\, bikes\, boats\, shoes and clothing\n\nSUSTAINABLE VENDORS & UPCYCLED GOODS \nLocal artisan food makers\, craft vendors\, and vintage/upcycled clothing booths will showcase sustainable\, locally-made products that support both environmental values and the local economy. (example: Love Sweater Thrift & Vintage) \nENVIRONMENTAL EDUCATION & ENGAGEMENT \nA dozen conservation-focused nonprofits—including organizations dedicated to trail work\, watershed protection\, environmental action\, and land management—will share their work and inspire community involvement. Hands-on educational activities make environmental stewardship accessible and fun for all ages! \n\nSeed bomb making\nWatershed education stations\nNative plant identification\nEarth Day-themed face painting\nChalk art creation\nComposting demonstrations\n\nGET OUTSIDE & GET ACTIVE \nLocal outdoor recreation groups will be on hand to encourage community members to explore Southern Oregon’s incredible outdoor resources. \nBIKE TO THE EVENT \nIn partnership with Piccadilly Cycles\, free bike valet service will be available throughout the event\, making it easy and convenient for attendees to arrive car-free and reduce their carbon footprint. \nEVENT DETAILS: \n\nWhen: Tuesday\, April 22\, 2025 | 5:00-7:30 PM\nWhere: A Street\, Ashland\, between 2nd and 5th Streets\nCost: FREE and open to all\nParking: Bike encouraged! Free bike valet on 4th Street by Piccadilly Cycles\nSponsored by: City of Ashland and KS Wild\nProduced by: Wild Thyme Productions\nFollow the event: IG and FB @WildThymeProductions
URL:https://southernoregonmagazine.com/event/earth-day-a-street-block-party/
END:VEVENT
END:VCALENDAR