BEGIN:VCALENDAR
VERSION:2.0
PRODID:-//Southern Oregon Magazine - ECPv6.15.20//NONSGML v1.0//EN
CALSCALE:GREGORIAN
METHOD:PUBLISH
X-WR-CALNAME:Southern Oregon Magazine
X-ORIGINAL-URL:https://southernoregonmagazine.com
X-WR-CALDESC:Events for Southern Oregon Magazine
REFRESH-INTERVAL;VALUE=DURATION:PT1H
X-Robots-Tag:noindex
X-PUBLISHED-TTL:PT1H
BEGIN:VTIMEZONE
TZID:UTC
BEGIN:STANDARD
TZOFFSETFROM:+0000
TZOFFSETTO:+0000
TZNAME:UTC
DTSTART:20230101T000000
END:STANDARD
END:VTIMEZONE
BEGIN:VEVENT
DTSTART;TZID=UTC:20241026T080000
DTEND;TZID=UTC:20241026T103000
DTSTAMP:20260423T031758
CREATED:20240920T195309Z
LAST-MODIFIED:20240920T195309Z
UID:10000139-1729929600-1729938600@southernoregonmagazine.com
SUMMARY:2024 Monster Dash for Education
DESCRIPTION:Join the 16th Annual Monster Dash! \nThe Monster Dash supports grants in the Ashland Public Schools\, and YOU (and your family\, and friends\, and neighbors…) can help us make this year’s Monster Dash bigger than ever. Get ready for a ghastly good time! \nTo learn more visit: https://ashlandmonsterdash.com
URL:https://southernoregonmagazine.com/event/2024-monster-dash-for-education/
LOCATION:Lithia Park\, Ashland\, Oregon
END:VEVENT
BEGIN:VEVENT
DTSTART;TZID=UTC:20241026T100000
DTEND;TZID=UTC:20241026T140000
DTSTAMP:20260423T031758
CREATED:20240903T195227Z
LAST-MODIFIED:20240903T195227Z
UID:10000136-1729936800-1729951200@southernoregonmagazine.com
SUMMARY:Open Farm Day - Sanctuary One at Double Oak Farm
DESCRIPTION:To learn more visit: https://sanctuaryone.org/open-farm-day-2024/
URL:https://southernoregonmagazine.com/event/open-farm-day-sanctuary-one-at-double-oak-farm/
LOCATION:Sanctuary One\, 13195 Upper Applegate Rd\, Jacksonville\, Oregon
ATTACH;FMTTYPE=image/png:https://southernoregonmagazine.com/wp-content/uploads/2024/09/unnamed.png
END:VEVENT
BEGIN:VEVENT
DTSTART;TZID=UTC:20241026T160000
DTEND;TZID=UTC:20241026T210000
DTSTAMP:20260423T031758
CREATED:20240920T194806Z
LAST-MODIFIED:20240920T194806Z
UID:10000138-1729958400-1729976400@southernoregonmagazine.com
SUMMARY:Monster Ball 2024
DESCRIPTION:Below details from attached link\, to learn more visit: https://scienceworksmuseum.org/family-party?utm_campaign=MonsterBall2024&utm_medium=magazine&utm_source=somag \nFrankenSTEAM – Reanimating ScienceWorks!\nCostumes Highly Encouraged! \nThe Monster Ball is our third annual Halloween-themed museum fundraiser in honor of Sarah who loved Halloween very much. Come dressed in your eerie best and celebrate Halloween with us! ScienceWorks transforms itself into a spooky museum of family fun for this year’s Monster Ball Fundraiser on Saturday\, Oct 26 from 4-9pm. We’ll have fun and fearsome frolicking with activities\, entertainment\, music and dancing\, food and drinks\, as well as a fantastic costume contest for individuals and groups.\nDiscounted admission for members — be sure to log in!\nGet dressed up and ready to howl at the moon while supporting ScienceWorks!
URL:https://southernoregonmagazine.com/event/monster-ball-2024/
LOCATION:ScienceWorks Museum
ATTACH;FMTTYPE=image/png:https://southernoregonmagazine.com/wp-content/uploads/2024/09/Screenshot-2024-09-20-123720.png
END:VEVENT
BEGIN:VEVENT
DTSTART;TZID=UTC:20241031T150000
DTEND;TZID=UTC:20241031T170000
DTSTAMP:20260423T031758
CREATED:20240816T200230Z
LAST-MODIFIED:20240816T200230Z
UID:10000115-1730386800-1730394000@southernoregonmagazine.com
SUMMARY:Safe Halloween
DESCRIPTION:To learn more visit: https://visitgrantspass.com/poi/safe-halloween
URL:https://southernoregonmagazine.com/event/safe-halloween/
END:VEVENT
BEGIN:VEVENT
DTSTART;TZID=UTC:20241108T190000
DTEND;TZID=UTC:20241108T210000
DTSTAMP:20260423T031758
CREATED:20240816T193009Z
LAST-MODIFIED:20240816T193009Z
UID:10000112-1731092400-1731099600@southernoregonmagazine.com
SUMMARY:Lena Jonsson Trio by Cage Free Concerts
DESCRIPTION:A Cage Free House Concert sure to sell out… Here’s a Clue: \n2024 ~ Lena Jonsson Trio nominated for Swedish Grammis with the album Elements\n2023 ~ Lena Jonsson Trio winner of Artist of the Year at Folk and World Music awards\n2021 ~ Lena Jonsson Trio wins a Swedish Grammy (Grammis) with the album Stories from the Outside. \nReservations required. Email seats@cagfreeconcerts.com \nTo learn more visit: Up-Coming Events (cagefreeconcerts.com)
URL:https://southernoregonmagazine.com/event/lena-jonsson-trio-by-cage-free-concerts/
END:VEVENT
BEGIN:VEVENT
DTSTART;TZID=UTC:20241114T190000
DTEND;TZID=UTC:20241114T210000
DTSTAMP:20260423T031758
CREATED:20240816T194010Z
LAST-MODIFIED:20240816T194010Z
UID:10000113-1731610800-1731618000@southernoregonmagazine.com
SUMMARY:Acoustic Groove Experience by Cage Free Concerts
DESCRIPTION:Following text from https://cagefreeconcerts.com/up-coming-events \nFinally\, – in the Spirit of Cage-Freedom – We host Bass Guitar Master\, Michael Manring https://manthing.com/home with Jarrod Kaplan\, percussion and Tony Kaltenberg\, guitar\, AKA The Acoustic Groove Experience\, a “Power trio for the 21st century” \nWhat do Tony K\, Michael Manring\, and Jarrod Kaplan have in common? Besides being way less attractive than Shakira\, they all stand out as exceptional innovators of their hand craft at a time when so much blends into  the realm of formula and in-distinction.  They have been collaborating on stage and in the studio for the past decade and continue to create absolutely stunning instrumental music that moves the body\, mind and soul in equal measure.  The band can best be described as an acoustically influenced effervescent power trio for the 21st century. Their new CD\, The Thread of Joy\, is out now and is receiving great reviews. \nHailed by many as the world’s leading solo bassist\, Michael Manring has been pushing back the boundaries of what’s possible on the bass guitar for over four decades. He has honed his skills on hundreds of recordings as a session musician and thousands of concerts throughout the world. Always adventurous\, Michael has worked with a surprisingly diverse collection of musicians from New Age keyboardist Suzanne Ciani to avant-improv guitar innovator Henry Kaiser to celebrated folk troubadour John Gorka to electro-pop pioneer Thomas Dolby.  His long-term collaboration and close friendship with the late acoustic guitar genius Michael Hedges led to a lengthy stint as house bassist for Windham Hill Records; a label for which he also worked as a solo artist. He has garnered two Gold Records\, Grammy and Bammie nominations\, a Berklee School of Music Distinguished Alumni Award and numerous Bass Player Magazine Reader’s Poll Awards including 1994 Bassist of the Year. “Forget his astounding technique\, musicality and absolute command of his instruments; …The enlightenment comes most from feeling the joy Michael feels to be playing…his brand of transcendental chops and musical understanding…is all in the service of the final outcome\, the joy of making music.” (Tom Darter\, Keyboard Magazine).
URL:https://southernoregonmagazine.com/event/acoustic-groove-experience-by-cage-free-concerts/
LOCATION:Grizzly Peak Winery\, 1600 E Nevada Street\, Ashland
END:VEVENT
END:VCALENDAR