BEGIN:VCALENDAR
VERSION:2.0
PRODID:-//Southern Oregon Magazine - ECPv6.15.20//NONSGML v1.0//EN
CALSCALE:GREGORIAN
METHOD:PUBLISH
X-WR-CALNAME:Southern Oregon Magazine
X-ORIGINAL-URL:https://southernoregonmagazine.com
X-WR-CALDESC:Events for Southern Oregon Magazine
REFRESH-INTERVAL;VALUE=DURATION:PT1H
X-Robots-Tag:noindex
X-PUBLISHED-TTL:PT1H
BEGIN:VTIMEZONE
TZID:UTC
BEGIN:STANDARD
TZOFFSETFROM:+0000
TZOFFSETTO:+0000
TZNAME:UTC
DTSTART:20240101T000000
END:STANDARD
END:VTIMEZONE
BEGIN:VEVENT
DTSTART;TZID=UTC:20250403T110000
DTEND;TZID=UTC:20250406T180000
DTSTAMP:20260424T164551
CREATED:20250325T210623Z
LAST-MODIFIED:20250325T210623Z
UID:10000164-1743678000-1743962400@southernoregonmagazine.com
SUMMARY:Rock Point Adventure Weekend at Del Rio
DESCRIPTION:Carpe that Diem and join us on an adventure – for your taste buds!\nThroughout the weekend\, we’re offering Rock Point tasting flights for $10.
URL:https://southernoregonmagazine.com/event/rock-point-adventure-weekend-at-del-rio/
LOCATION:Del Rio Vineyard Estate\, 52 N River Road\, Gold Hill\, OR
END:VEVENT
BEGIN:VEVENT
DTSTART;TZID=UTC:20250405T190000
DTEND;TZID=UTC:20250405T213000
DTSTAMP:20260424T164551
CREATED:20250303T203107Z
LAST-MODIFIED:20250303T203107Z
UID:10000147-1743879600-1743888600@southernoregonmagazine.com
SUMMARY:Seals & Crofts 2 at the Craterian Theater
DESCRIPTION:For Brady Seals and Lua Crofts\, musical magic is all in the family. Brady’s cousin is Jimmy Seals and Lua is the daughter of Dash Crofts. Together they are Seals & Crofts 2\, bringing a repertoire of  songs artfully reimagined\, but with a reverent nod to the past. Brady\, Lua and the band perform the classics of the iconic ‘70s-’80s soft-rock duo Seals & Crofts\, including: “Summer Breeze\,” “Get Closer\,” “Diamond Girl\,” and “We May Never Pass This Way (Again).” Brady co-wrote three consecutive No. 1 songs for his band Little Texas\, (“What Might Have Been\,” “God Blessed Texas” and “My Love”)\, and Lua made her recording debut at the age of seven\, singing with her parents on a children’s album. Don’t miss this dynamic duo as they remind everyone just how special the Seals & Crofts catalog really is.
URL:https://southernoregonmagazine.com/event/seals-crofts-2-at-the-craterian-theater/
LOCATION:Craterian Theater\, 23 S Central Ave\, Medford\, OR\, 97501
END:VEVENT
BEGIN:VEVENT
DTSTART;TZID=UTC:20250406T150000
DTEND;TZID=UTC:20250406T170000
DTSTAMP:20260424T164551
CREATED:20250303T203413Z
LAST-MODIFIED:20250303T203413Z
UID:10000148-1743951600-1743958800@southernoregonmagazine.com
SUMMARY:The Queens Cartoonists at the Craterian
DESCRIPTION:Pulling from over 100 years of animation from around the world\, The Queen’s Cartoonists bring animated films to life\, perfectly synchronizing their performances with the films projected on stage. The band matches the energy of the cartoons\, leading the audience through a world of virtuosic musicianship and multi-instrumental mayhem\, while breathing new life into two uniquely American forms of art: jazz and animation. Tying everything together is the TQC brand of comedy—anecdotes about the cartoons and their composers\, stream-of-consciousness humor\, and elements of a musical circus.
URL:https://southernoregonmagazine.com/event/the-queens-cartoonists-at-the-craterian/
LOCATION:Craterian Theater\, 23 S Central Ave\, Medford\, OR\, 97501
END:VEVENT
BEGIN:VEVENT
DTSTART;TZID=UTC:20250407T080000
DTEND;TZID=UTC:20250412T170000
DTSTAMP:20260424T164551
CREATED:20250326T022541Z
LAST-MODIFIED:20250326T022541Z
UID:10000167-1744012800-1744477200@southernoregonmagazine.com
SUMMARY:Kamome Festival - Crescent City\, CA
DESCRIPTION:Kamome Festival Commemorates the 12 Year Anniversary of When the Tiny Barnacled Covered Boat Washed Ashore in Crescent City\, California \nThe annual festival celebrates 12 years from when the boat\, Kamome\, was discovered on the shores of Crescent City with a Japanese-themed restaurant week and dozens of free activities for all-ages honoring Crescent City’s connection and Sister City relationship with Rikuzentakata\, Japan. The festival ends with a special Taste of Japan culinary and entertainment experience on Saturday evening\, April 12\, 2025 with proceeds going to the Kamome Foundation and Del Norte High School’s Japan Club \nhttp://www.kamomefestival.com/ 
URL:https://southernoregonmagazine.com/event/kamome-festival-crescent-city-ca/
LOCATION:Crescent City\, CA\, Crescent City\, CA\, CA
ATTACH;FMTTYPE=image/jpeg:https://southernoregonmagazine.com/wp-content/uploads/2025/03/kamome-festival-poster-2025-web.jpg
END:VEVENT
BEGIN:VEVENT
DTSTART;TZID=UTC:20250411T170000
DTEND;TZID=UTC:20250411T190000
DTSTAMP:20260424T164551
CREATED:20250407T234131Z
LAST-MODIFIED:20250407T234131Z
UID:10000169-1744390800-1744398000@southernoregonmagazine.com
SUMMARY:Just A Duo at Rellik Winery
DESCRIPTION:
URL:https://southernoregonmagazine.com/event/just-a-duo-at-rellik-winery/
LOCATION:Rellik Winery
END:VEVENT
BEGIN:VEVENT
DTSTART;TZID=UTC:20250412T160000
DTEND;TZID=UTC:20250412T180000
DTSTAMP:20260424T164551
CREATED:20250407T234330Z
LAST-MODIFIED:20250407T234330Z
UID:10000170-1744473600-1744480800@southernoregonmagazine.com
SUMMARY:J-Brothers at Rellik Winery
DESCRIPTION:
URL:https://southernoregonmagazine.com/event/j-brothers-at-rellik-winery/
LOCATION:Rellik Winery
END:VEVENT
BEGIN:VEVENT
DTSTART;TZID=UTC:20250413T103000
DTEND;TZID=UTC:20250413T130000
DTSTAMP:20260424T164551
CREATED:20250407T234531Z
LAST-MODIFIED:20250407T234531Z
UID:10000171-1744540200-1744549200@southernoregonmagazine.com
SUMMARY:Brunch at Rellik Winery
DESCRIPTION:
URL:https://southernoregonmagazine.com/event/brunch-at-rellik-winery-2/
LOCATION:Rellik Winery
END:VEVENT
BEGIN:VEVENT
DTSTART;TZID=UTC:20250413T120000
DTEND;TZID=UTC:20250413T160000
DTSTAMP:20260424T164551
CREATED:20250325T210807Z
LAST-MODIFIED:20250325T210807Z
UID:10000165-1744545600-1744560000@southernoregonmagazine.com
SUMMARY:Tasting Room Spring Sip and Shop at Del Rio
DESCRIPTION:Join us for a Sip & Shop experience on Sunday\, April 13th from 12 – 4 p.m. in our Tasting Room Garden where local vendors share their creations. \nNO PETS\, PLEASE.
URL:https://southernoregonmagazine.com/event/tasting-room-spring-sip-and-shop-at-del-rio/
LOCATION:Del Rio Vineyard Estate\, 52 N River Road\, Gold Hill\, OR
END:VEVENT
BEGIN:VEVENT
DTSTART;TZID=UTC:20250413T160000
DTEND;TZID=UTC:20250413T180000
DTSTAMP:20260424T164551
CREATED:20250407T234644Z
LAST-MODIFIED:20250407T234644Z
UID:10000172-1744560000-1744567200@southernoregonmagazine.com
SUMMARY:Conner Reese at Rellik Winery
DESCRIPTION:
URL:https://southernoregonmagazine.com/event/conner-reese-at-rellik-winery/
LOCATION:Rellik Winery
END:VEVENT
BEGIN:VEVENT
DTSTART;TZID=UTC:20250413T190000
DTEND;TZID=UTC:20250413T210000
DTSTAMP:20260424T164551
CREATED:20250303T204106Z
LAST-MODIFIED:20250303T204106Z
UID:10000149-1744570800-1744578000@southernoregonmagazine.com
SUMMARY:Pink Martini featuring China Forbes at the Craterian Theater
DESCRIPTION:The biggest little orchestra around draws inspiration from music from all over the world\, crossing genres of classical\, jazz and old-fashioned pop. Thomas Lauderdale founded Pink Martini in 1994 to provide more beautiful and inclusive musical soundtracks. Says Lauderdale\, “We’re very much an American band\, but we spend a lot of time abroad and therefore have the incredible diplomatic opportunity to represent a broader\, more inclusive America…” Thirty years later\, Pink Martini still tours the world\, singing in 22 languages at opera houses\, concert halls\, museums and fashion shows. Whether it is your first time hearing Pink Martini or one of many\, you will not want to miss this incredible global musical experience live at the Craterian. \n 
URL:https://southernoregonmagazine.com/event/pink-martini-featuring-china-forbes-at-the-craterian-theater/
LOCATION:Craterian Theater\, 23 S Central Ave\, Medford\, OR\, 97501
END:VEVENT
BEGIN:VEVENT
DTSTART;TZID=UTC:20250417T193000
DTEND;TZID=UTC:20250417T220000
DTSTAMP:20260424T164551
CREATED:20250303T204401Z
LAST-MODIFIED:20250303T204540Z
UID:10000150-1744918200-1744927200@southernoregonmagazine.com
SUMMARY:Pablo Cruise at the Craterian
DESCRIPTION:Love will find a way!!! Enjoy a night of easy rock and help support upcoming musicians in the Rogue Valley. Proceeds from this event will benefit the Use Your Gift Foundation. \nPablo Cruise in concert – VIP Experience Available* \nMulti-Platinum Selling & Internationally Acclaimed Pop/Rock Band PABLO CRUISE released their first album in 1975\, welcoming fans to “Climb Aboard The Good Ship Pablo Cruise.” Reaching the Top 10 with mega hits like “Whatcha Gonna Do When She Says Goodbye?” & “Love Will Find A Way\,” and several other Top 20’s\, the band went on to sell several million albums. In 1979\, they broke Elvis Presley’s attendance record at the Sahara Tahoe in South Lake Tahoe\, Nevada\, becoming the first rock band to play a casino\, but by 1985 after releasing 8 studio albums (2 Platinum – ‘A Place in the Sun’ & ‘Worlds Away’)\, the band decided to take a hiatus that lasted nearly 20 years. Today\, Pablo Cruise is bringing more energy & excitement to the stage than ever before and never sounded better. Band includes Founders DAVID JENKINS (Guitar\, Vocals) & CORY LERIOS (Keys\, Vocals) as well as ROBBIE WYCKOFF (Vocals\, Percussion – toured w/Roger Waters for 5 years)\, SERGIO GONZALEZ (Drums) & LARRY ANTONINO (Bass). \n*A limited number of VIP Experience tickets are available for $100.00 each.  VIP Tickets include Premium Seats (first two rows)\, Meet & Greet with the band from 6:00 to 7:00 with beer\, wine and snacks. \nOpening act: Use Your Gift Foundation artist Amber Lyn. \nAmber Lyn is an award-winning singer-songwriter from Southern Oregon with a story as powerful as her music. Abandoned by her father at a young age and raised by a single mother who left her feeling unsupported and small\, Amber grew up doubting her worth and suppressing her voice. It wasn’t until she unexpectedly received a songwriting award that she discovered her ability to write songs and sing—a gift that has since transformed her life and the lives of many others. \nAbout the Use Your Gift Foundation.\nMission Statement \nOur mission at Use Your Gift Foundation is to provide education and guidance to aspiring young musicians regardless of race\, religion\, gender or financial standing. We desire to help these young artists reach their musical dreams – while improving their performance skills\, self-esteem\, and confidence. Real-world music opportunities including studio recording and live performance are the foundation of the Use Your Gift program.
URL:https://southernoregonmagazine.com/event/1064/
LOCATION:Craterian Theater\, 23 S Central Ave\, Medford\, OR\, 97501
END:VEVENT
BEGIN:VEVENT
DTSTART;TZID=UTC:20250418T170000
DTEND;TZID=UTC:20250418T190000
DTSTAMP:20260424T164551
CREATED:20250407T235656Z
LAST-MODIFIED:20250407T235656Z
UID:10000173-1744995600-1745002800@southernoregonmagazine.com
SUMMARY:Charles Guy Duo at Rellik Winery
DESCRIPTION:
URL:https://southernoregonmagazine.com/event/charles-guy-duo-at-rellik-winery/
LOCATION:Rellik Winery
END:VEVENT
BEGIN:VEVENT
DTSTART;TZID=UTC:20250419T160000
DTEND;TZID=UTC:20250419T180000
DTSTAMP:20260424T164551
CREATED:20250407T235756Z
LAST-MODIFIED:20250407T235756Z
UID:10000174-1745078400-1745085600@southernoregonmagazine.com
SUMMARY:The Giantess live at Rellik Winery
DESCRIPTION:
URL:https://southernoregonmagazine.com/event/the-giantess-live-at-rellik-winery/
END:VEVENT
BEGIN:VEVENT
DTSTART;TZID=UTC:20250425T193000
DTEND;TZID=UTC:20250425T220000
DTSTAMP:20260424T164551
CREATED:20250303T204939Z
LAST-MODIFIED:20250303T204939Z
UID:10000151-1745609400-1745618400@southernoregonmagazine.com
SUMMARY:Rogue Valley Symphony presents Visit the Grand Canyon with Tommy Mesa
DESCRIPTION:RVS is collaborating with Westwater Visual Media Studio to deliver a truly unique concert experience with Grofé’s Grand Canyon Suite. Tommy Mesa joins us to play Dvořák’s Cello Concerto. Of the concerto\, Brahms famously said: “If I had known that it was possible to compose such a concerto for the cello\, I would have tried it myself!” \nTower: Made in America\nDvořák: Cello Concerto in B Minor\nTommy Mesa\, cello\nGrofé: Grand Canyon Suite – with Grand Canyon Country visual concerto\nNicholas Bardonnay\, photographer & multimedia artist
URL:https://southernoregonmagazine.com/event/rogue-valley-symphony-presents-visit-the-grand-canyon-with-tommy-mesa/2025-04-25/
LOCATION:Craterian Theater\, 23 S Central Ave\, Medford\, OR\, 97501
END:VEVENT
END:VCALENDAR