BEGIN:VCALENDAR
VERSION:2.0
PRODID:-//Southern Oregon Magazine - ECPv6.15.20//NONSGML v1.0//EN
CALSCALE:GREGORIAN
METHOD:PUBLISH
X-WR-CALNAME:Southern Oregon Magazine
X-ORIGINAL-URL:https://southernoregonmagazine.com
X-WR-CALDESC:Events for Southern Oregon Magazine
REFRESH-INTERVAL;VALUE=DURATION:PT1H
X-Robots-Tag:noindex
X-PUBLISHED-TTL:PT1H
BEGIN:VTIMEZONE
TZID:UTC
BEGIN:STANDARD
TZOFFSETFROM:+0000
TZOFFSETTO:+0000
TZNAME:UTC
DTSTART:20270101T000000
END:STANDARD
END:VTIMEZONE
BEGIN:VEVENT
DTSTART;TZID=UTC:20281105T103000
DTEND;TZID=UTC:20281105T130000
DTSTAMP:20260421T153655
CREATED:20250904T162711Z
LAST-MODIFIED:20250904T162711Z
UID:10000412-1857033000-1857042000@southernoregonmagazine.com
SUMMARY:Sunday Brunch at Rellik Winery
DESCRIPTION:Classic Sunday Brunch\nEvery Sunday 10:30am-1:00pm\n\n\n\n\n \n\n\n\nJoin us for Sunday Brunch at Rellik\, where fresh\, classic ingredients take center stage in every dish. Pair your meal with one of our flavorful mimosas – crafted to complement the morning sunshine and vineyard views. It’s the perfect way to slow down\, sip\, and savor your Sunday.
URL:https://southernoregonmagazine.com/event/sunday-brunch-at-rellik-winery-3/2028-11-05/
LOCATION:Rellik Winery
END:VEVENT
BEGIN:VEVENT
DTSTART;TZID=UTC:20281112T103000
DTEND;TZID=UTC:20281112T130000
DTSTAMP:20260421T153655
CREATED:20250904T162711Z
LAST-MODIFIED:20250904T162711Z
UID:10000413-1857637800-1857646800@southernoregonmagazine.com
SUMMARY:Sunday Brunch at Rellik Winery
DESCRIPTION:Classic Sunday Brunch\nEvery Sunday 10:30am-1:00pm\n\n\n\n\n \n\n\n\nJoin us for Sunday Brunch at Rellik\, where fresh\, classic ingredients take center stage in every dish. Pair your meal with one of our flavorful mimosas – crafted to complement the morning sunshine and vineyard views. It’s the perfect way to slow down\, sip\, and savor your Sunday.
URL:https://southernoregonmagazine.com/event/sunday-brunch-at-rellik-winery-3/2028-11-12/
LOCATION:Rellik Winery
END:VEVENT
BEGIN:VEVENT
DTSTART;TZID=UTC:20281119T103000
DTEND;TZID=UTC:20281119T130000
DTSTAMP:20260421T153655
CREATED:20250904T162711Z
LAST-MODIFIED:20250904T162711Z
UID:10000414-1858242600-1858251600@southernoregonmagazine.com
SUMMARY:Sunday Brunch at Rellik Winery
DESCRIPTION:Classic Sunday Brunch\nEvery Sunday 10:30am-1:00pm\n\n\n\n\n \n\n\n\nJoin us for Sunday Brunch at Rellik\, where fresh\, classic ingredients take center stage in every dish. Pair your meal with one of our flavorful mimosas – crafted to complement the morning sunshine and vineyard views. It’s the perfect way to slow down\, sip\, and savor your Sunday.
URL:https://southernoregonmagazine.com/event/sunday-brunch-at-rellik-winery-3/2028-11-19/
LOCATION:Rellik Winery
END:VEVENT
BEGIN:VEVENT
DTSTART;TZID=UTC:20281126T103000
DTEND;TZID=UTC:20281126T130000
DTSTAMP:20260421T153655
CREATED:20250904T162711Z
LAST-MODIFIED:20250904T162711Z
UID:10000415-1858847400-1858856400@southernoregonmagazine.com
SUMMARY:Sunday Brunch at Rellik Winery
DESCRIPTION:Classic Sunday Brunch\nEvery Sunday 10:30am-1:00pm\n\n\n\n\n \n\n\n\nJoin us for Sunday Brunch at Rellik\, where fresh\, classic ingredients take center stage in every dish. Pair your meal with one of our flavorful mimosas – crafted to complement the morning sunshine and vineyard views. It’s the perfect way to slow down\, sip\, and savor your Sunday.
URL:https://southernoregonmagazine.com/event/sunday-brunch-at-rellik-winery-3/2028-11-26/
LOCATION:Rellik Winery
END:VEVENT
BEGIN:VEVENT
DTSTART;TZID=UTC:20281203T103000
DTEND;TZID=UTC:20281203T130000
DTSTAMP:20260421T153655
CREATED:20250904T162711Z
LAST-MODIFIED:20250904T162711Z
UID:10000416-1859452200-1859461200@southernoregonmagazine.com
SUMMARY:Sunday Brunch at Rellik Winery
DESCRIPTION:Classic Sunday Brunch\nEvery Sunday 10:30am-1:00pm\n\n\n\n\n \n\n\n\nJoin us for Sunday Brunch at Rellik\, where fresh\, classic ingredients take center stage in every dish. Pair your meal with one of our flavorful mimosas – crafted to complement the morning sunshine and vineyard views. It’s the perfect way to slow down\, sip\, and savor your Sunday.
URL:https://southernoregonmagazine.com/event/sunday-brunch-at-rellik-winery-3/2028-12-03/
LOCATION:Rellik Winery
END:VEVENT
BEGIN:VEVENT
DTSTART;TZID=UTC:20281210T103000
DTEND;TZID=UTC:20281210T130000
DTSTAMP:20260421T153655
CREATED:20250904T162711Z
LAST-MODIFIED:20250904T162711Z
UID:10000417-1860057000-1860066000@southernoregonmagazine.com
SUMMARY:Sunday Brunch at Rellik Winery
DESCRIPTION:Classic Sunday Brunch\nEvery Sunday 10:30am-1:00pm\n\n\n\n\n \n\n\n\nJoin us for Sunday Brunch at Rellik\, where fresh\, classic ingredients take center stage in every dish. Pair your meal with one of our flavorful mimosas – crafted to complement the morning sunshine and vineyard views. It’s the perfect way to slow down\, sip\, and savor your Sunday.
URL:https://southernoregonmagazine.com/event/sunday-brunch-at-rellik-winery-3/2028-12-10/
LOCATION:Rellik Winery
END:VEVENT
BEGIN:VEVENT
DTSTART;TZID=UTC:20281217T103000
DTEND;TZID=UTC:20281217T130000
DTSTAMP:20260421T153655
CREATED:20250904T162711Z
LAST-MODIFIED:20250904T162711Z
UID:10000418-1860661800-1860670800@southernoregonmagazine.com
SUMMARY:Sunday Brunch at Rellik Winery
DESCRIPTION:Classic Sunday Brunch\nEvery Sunday 10:30am-1:00pm\n\n\n\n\n \n\n\n\nJoin us for Sunday Brunch at Rellik\, where fresh\, classic ingredients take center stage in every dish. Pair your meal with one of our flavorful mimosas – crafted to complement the morning sunshine and vineyard views. It’s the perfect way to slow down\, sip\, and savor your Sunday.
URL:https://southernoregonmagazine.com/event/sunday-brunch-at-rellik-winery-3/2028-12-17/
LOCATION:Rellik Winery
END:VEVENT
BEGIN:VEVENT
DTSTART;TZID=UTC:20281224T103000
DTEND;TZID=UTC:20281224T130000
DTSTAMP:20260421T153655
CREATED:20250904T162711Z
LAST-MODIFIED:20250904T162711Z
UID:10000419-1861266600-1861275600@southernoregonmagazine.com
SUMMARY:Sunday Brunch at Rellik Winery
DESCRIPTION:Classic Sunday Brunch\nEvery Sunday 10:30am-1:00pm\n\n\n\n\n \n\n\n\nJoin us for Sunday Brunch at Rellik\, where fresh\, classic ingredients take center stage in every dish. Pair your meal with one of our flavorful mimosas – crafted to complement the morning sunshine and vineyard views. It’s the perfect way to slow down\, sip\, and savor your Sunday.
URL:https://southernoregonmagazine.com/event/sunday-brunch-at-rellik-winery-3/2028-12-24/
LOCATION:Rellik Winery
END:VEVENT
BEGIN:VEVENT
DTSTART;TZID=UTC:20281231T103000
DTEND;TZID=UTC:20281231T130000
DTSTAMP:20260421T153655
CREATED:20250904T162711Z
LAST-MODIFIED:20250904T162711Z
UID:10000420-1861871400-1861880400@southernoregonmagazine.com
SUMMARY:Sunday Brunch at Rellik Winery
DESCRIPTION:Classic Sunday Brunch\nEvery Sunday 10:30am-1:00pm\n\n\n\n\n \n\n\n\nJoin us for Sunday Brunch at Rellik\, where fresh\, classic ingredients take center stage in every dish. Pair your meal with one of our flavorful mimosas – crafted to complement the morning sunshine and vineyard views. It’s the perfect way to slow down\, sip\, and savor your Sunday.
URL:https://southernoregonmagazine.com/event/sunday-brunch-at-rellik-winery-3/2028-12-31/
LOCATION:Rellik Winery
END:VEVENT
BEGIN:VEVENT
DTSTART;TZID=UTC:20290107T103000
DTEND;TZID=UTC:20290107T130000
DTSTAMP:20260421T153655
CREATED:20250904T162711Z
LAST-MODIFIED:20250904T162711Z
UID:10000421-1862476200-1862485200@southernoregonmagazine.com
SUMMARY:Sunday Brunch at Rellik Winery
DESCRIPTION:Classic Sunday Brunch\nEvery Sunday 10:30am-1:00pm\n\n\n\n\n \n\n\n\nJoin us for Sunday Brunch at Rellik\, where fresh\, classic ingredients take center stage in every dish. Pair your meal with one of our flavorful mimosas – crafted to complement the morning sunshine and vineyard views. It’s the perfect way to slow down\, sip\, and savor your Sunday.
URL:https://southernoregonmagazine.com/event/sunday-brunch-at-rellik-winery-3/2029-01-07/
LOCATION:Rellik Winery
END:VEVENT
BEGIN:VEVENT
DTSTART;TZID=UTC:20290114T103000
DTEND;TZID=UTC:20290114T130000
DTSTAMP:20260421T153655
CREATED:20250904T162711Z
LAST-MODIFIED:20250904T162711Z
UID:10000422-1863081000-1863090000@southernoregonmagazine.com
SUMMARY:Sunday Brunch at Rellik Winery
DESCRIPTION:Classic Sunday Brunch\nEvery Sunday 10:30am-1:00pm\n\n\n\n\n \n\n\n\nJoin us for Sunday Brunch at Rellik\, where fresh\, classic ingredients take center stage in every dish. Pair your meal with one of our flavorful mimosas – crafted to complement the morning sunshine and vineyard views. It’s the perfect way to slow down\, sip\, and savor your Sunday.
URL:https://southernoregonmagazine.com/event/sunday-brunch-at-rellik-winery-3/2029-01-14/
LOCATION:Rellik Winery
END:VEVENT
BEGIN:VEVENT
DTSTART;TZID=UTC:20290121T103000
DTEND;TZID=UTC:20290121T130000
DTSTAMP:20260421T153655
CREATED:20250904T162711Z
LAST-MODIFIED:20250904T162711Z
UID:10000423-1863685800-1863694800@southernoregonmagazine.com
SUMMARY:Sunday Brunch at Rellik Winery
DESCRIPTION:Classic Sunday Brunch\nEvery Sunday 10:30am-1:00pm\n\n\n\n\n \n\n\n\nJoin us for Sunday Brunch at Rellik\, where fresh\, classic ingredients take center stage in every dish. Pair your meal with one of our flavorful mimosas – crafted to complement the morning sunshine and vineyard views. It’s the perfect way to slow down\, sip\, and savor your Sunday.
URL:https://southernoregonmagazine.com/event/sunday-brunch-at-rellik-winery-3/2029-01-21/
LOCATION:Rellik Winery
END:VEVENT
BEGIN:VEVENT
DTSTART;TZID=UTC:20290128T103000
DTEND;TZID=UTC:20290128T130000
DTSTAMP:20260421T153655
CREATED:20250904T162711Z
LAST-MODIFIED:20250904T162711Z
UID:10000424-1864290600-1864299600@southernoregonmagazine.com
SUMMARY:Sunday Brunch at Rellik Winery
DESCRIPTION:Classic Sunday Brunch\nEvery Sunday 10:30am-1:00pm\n\n\n\n\n \n\n\n\nJoin us for Sunday Brunch at Rellik\, where fresh\, classic ingredients take center stage in every dish. Pair your meal with one of our flavorful mimosas – crafted to complement the morning sunshine and vineyard views. It’s the perfect way to slow down\, sip\, and savor your Sunday.
URL:https://southernoregonmagazine.com/event/sunday-brunch-at-rellik-winery-3/2029-01-28/
LOCATION:Rellik Winery
END:VEVENT
END:VCALENDAR