BEGIN:VCALENDAR
VERSION:2.0
PRODID:-//Southern Oregon Magazine - ECPv6.15.20//NONSGML v1.0//EN
CALSCALE:GREGORIAN
METHOD:PUBLISH
X-WR-CALNAME:Southern Oregon Magazine
X-ORIGINAL-URL:https://southernoregonmagazine.com
X-WR-CALDESC:Events for Southern Oregon Magazine
REFRESH-INTERVAL;VALUE=DURATION:PT1H
X-Robots-Tag:noindex
X-PUBLISHED-TTL:PT1H
BEGIN:VTIMEZONE
TZID:UTC
BEGIN:STANDARD
TZOFFSETFROM:+0000
TZOFFSETTO:+0000
TZNAME:UTC
DTSTART:20250101T000000
END:STANDARD
END:VTIMEZONE
BEGIN:VEVENT
DTSTART;TZID=UTC:20260606T130000
DTEND;TZID=UTC:20260606T150000
DTSTAMP:20260419T213432
CREATED:20260227T163332Z
LAST-MODIFIED:20260227T163332Z
UID:10000571-1780750800-1780758000@southernoregonmagazine.com
SUMMARY:Museum Lab at ScienceWorks hands on museum
DESCRIPTION:MuseumLab invites kids to turn “What if?” into real experiments on Saturdays\nIntroducing MuseumLab\, a pop-up science lab inside ScienceWorks where kids ages 6 to 12 turn curiosity into real discovery. Led by educator and former lab scientist Ash Friend\, these two-hour weekend workshops invite participants to investigate big questions through playful\, hands-on challenges inspired by museum exhibits. Kids test ideas\, collect real data\, redesign experiments\, and collaborate — all in an active\, supportive environment. \nEach session stands alone\, and space is limited\, so registration is required. A minimum of four participants must be pre-registered for a session to run. Parents are welcome to participate alongside their child\, or drop off and return at pickup time. If your child loves asking “What if?” MuseumLab is the perfect place to explore. Sessions begin March 14. \nSaturdays\n1 to 3 PM\n$25 for members | $35 for non-members | financial aid available
URL:https://southernoregonmagazine.com/event/museum-lab-at-scienceworks-hands-on-museum/2026-06-06/
LOCATION:ScienceWorks Museum
END:VEVENT
BEGIN:VEVENT
DTSTART;TZID=UTC:20260607T103000
DTEND;TZID=UTC:20260607T130000
DTSTAMP:20260419T213432
CREATED:20250904T162711Z
LAST-MODIFIED:20250904T162711Z
UID:10000286-1780828200-1780837200@southernoregonmagazine.com
SUMMARY:Sunday Brunch at Rellik Winery
DESCRIPTION:Classic Sunday Brunch\nEvery Sunday 10:30am-1:00pm\n\n\n\n\n \n\n\n\nJoin us for Sunday Brunch at Rellik\, where fresh\, classic ingredients take center stage in every dish. Pair your meal with one of our flavorful mimosas – crafted to complement the morning sunshine and vineyard views. It’s the perfect way to slow down\, sip\, and savor your Sunday.
URL:https://southernoregonmagazine.com/event/sunday-brunch-at-rellik-winery-3/2026-06-07/
LOCATION:Rellik Winery
END:VEVENT
BEGIN:VEVENT
DTSTART;TZID=UTC:20260613T130000
DTEND;TZID=UTC:20260613T150000
DTSTAMP:20260419T213432
CREATED:20260227T163332Z
LAST-MODIFIED:20260227T163332Z
UID:10000572-1781355600-1781362800@southernoregonmagazine.com
SUMMARY:Museum Lab at ScienceWorks hands on museum
DESCRIPTION:MuseumLab invites kids to turn “What if?” into real experiments on Saturdays\nIntroducing MuseumLab\, a pop-up science lab inside ScienceWorks where kids ages 6 to 12 turn curiosity into real discovery. Led by educator and former lab scientist Ash Friend\, these two-hour weekend workshops invite participants to investigate big questions through playful\, hands-on challenges inspired by museum exhibits. Kids test ideas\, collect real data\, redesign experiments\, and collaborate — all in an active\, supportive environment. \nEach session stands alone\, and space is limited\, so registration is required. A minimum of four participants must be pre-registered for a session to run. Parents are welcome to participate alongside their child\, or drop off and return at pickup time. If your child loves asking “What if?” MuseumLab is the perfect place to explore. Sessions begin March 14. \nSaturdays\n1 to 3 PM\n$25 for members | $35 for non-members | financial aid available
URL:https://southernoregonmagazine.com/event/museum-lab-at-scienceworks-hands-on-museum/2026-06-13/
LOCATION:ScienceWorks Museum
END:VEVENT
BEGIN:VEVENT
DTSTART;TZID=UTC:20260614T103000
DTEND;TZID=UTC:20260614T130000
DTSTAMP:20260419T213432
CREATED:20250904T162711Z
LAST-MODIFIED:20250904T162711Z
UID:10000287-1781433000-1781442000@southernoregonmagazine.com
SUMMARY:Sunday Brunch at Rellik Winery
DESCRIPTION:Classic Sunday Brunch\nEvery Sunday 10:30am-1:00pm\n\n\n\n\n \n\n\n\nJoin us for Sunday Brunch at Rellik\, where fresh\, classic ingredients take center stage in every dish. Pair your meal with one of our flavorful mimosas – crafted to complement the morning sunshine and vineyard views. It’s the perfect way to slow down\, sip\, and savor your Sunday.
URL:https://southernoregonmagazine.com/event/sunday-brunch-at-rellik-winery-3/2026-06-14/
LOCATION:Rellik Winery
END:VEVENT
BEGIN:VEVENT
DTSTART;TZID=UTC:20260620T130000
DTEND;TZID=UTC:20260620T150000
DTSTAMP:20260419T213432
CREATED:20260227T163332Z
LAST-MODIFIED:20260227T163332Z
UID:10000573-1781960400-1781967600@southernoregonmagazine.com
SUMMARY:Museum Lab at ScienceWorks hands on museum
DESCRIPTION:MuseumLab invites kids to turn “What if?” into real experiments on Saturdays\nIntroducing MuseumLab\, a pop-up science lab inside ScienceWorks where kids ages 6 to 12 turn curiosity into real discovery. Led by educator and former lab scientist Ash Friend\, these two-hour weekend workshops invite participants to investigate big questions through playful\, hands-on challenges inspired by museum exhibits. Kids test ideas\, collect real data\, redesign experiments\, and collaborate — all in an active\, supportive environment. \nEach session stands alone\, and space is limited\, so registration is required. A minimum of four participants must be pre-registered for a session to run. Parents are welcome to participate alongside their child\, or drop off and return at pickup time. If your child loves asking “What if?” MuseumLab is the perfect place to explore. Sessions begin March 14. \nSaturdays\n1 to 3 PM\n$25 for members | $35 for non-members | financial aid available
URL:https://southernoregonmagazine.com/event/museum-lab-at-scienceworks-hands-on-museum/2026-06-20/
LOCATION:ScienceWorks Museum
END:VEVENT
BEGIN:VEVENT
DTSTART;TZID=UTC:20260621T103000
DTEND;TZID=UTC:20260621T130000
DTSTAMP:20260419T213432
CREATED:20250904T162711Z
LAST-MODIFIED:20250904T162711Z
UID:10000288-1782037800-1782046800@southernoregonmagazine.com
SUMMARY:Sunday Brunch at Rellik Winery
DESCRIPTION:Classic Sunday Brunch\nEvery Sunday 10:30am-1:00pm\n\n\n\n\n \n\n\n\nJoin us for Sunday Brunch at Rellik\, where fresh\, classic ingredients take center stage in every dish. Pair your meal with one of our flavorful mimosas – crafted to complement the morning sunshine and vineyard views. It’s the perfect way to slow down\, sip\, and savor your Sunday.
URL:https://southernoregonmagazine.com/event/sunday-brunch-at-rellik-winery-3/2026-06-21/
LOCATION:Rellik Winery
END:VEVENT
BEGIN:VEVENT
DTSTART;TZID=UTC:20260627T130000
DTEND;TZID=UTC:20260627T150000
DTSTAMP:20260419T213432
CREATED:20260227T163332Z
LAST-MODIFIED:20260227T163332Z
UID:10000574-1782565200-1782572400@southernoregonmagazine.com
SUMMARY:Museum Lab at ScienceWorks hands on museum
DESCRIPTION:MuseumLab invites kids to turn “What if?” into real experiments on Saturdays\nIntroducing MuseumLab\, a pop-up science lab inside ScienceWorks where kids ages 6 to 12 turn curiosity into real discovery. Led by educator and former lab scientist Ash Friend\, these two-hour weekend workshops invite participants to investigate big questions through playful\, hands-on challenges inspired by museum exhibits. Kids test ideas\, collect real data\, redesign experiments\, and collaborate — all in an active\, supportive environment. \nEach session stands alone\, and space is limited\, so registration is required. A minimum of four participants must be pre-registered for a session to run. Parents are welcome to participate alongside their child\, or drop off and return at pickup time. If your child loves asking “What if?” MuseumLab is the perfect place to explore. Sessions begin March 14. \nSaturdays\n1 to 3 PM\n$25 for members | $35 for non-members | financial aid available
URL:https://southernoregonmagazine.com/event/museum-lab-at-scienceworks-hands-on-museum/2026-06-27/
LOCATION:ScienceWorks Museum
END:VEVENT
BEGIN:VEVENT
DTSTART;TZID=UTC:20260628T103000
DTEND;TZID=UTC:20260628T130000
DTSTAMP:20260419T213432
CREATED:20250904T162711Z
LAST-MODIFIED:20250904T162711Z
UID:10000289-1782642600-1782651600@southernoregonmagazine.com
SUMMARY:Sunday Brunch at Rellik Winery
DESCRIPTION:Classic Sunday Brunch\nEvery Sunday 10:30am-1:00pm\n\n\n\n\n \n\n\n\nJoin us for Sunday Brunch at Rellik\, where fresh\, classic ingredients take center stage in every dish. Pair your meal with one of our flavorful mimosas – crafted to complement the morning sunshine and vineyard views. It’s the perfect way to slow down\, sip\, and savor your Sunday.
URL:https://southernoregonmagazine.com/event/sunday-brunch-at-rellik-winery-3/2026-06-28/
LOCATION:Rellik Winery
END:VEVENT
END:VCALENDAR