BEGIN:VCALENDAR
VERSION:2.0
PRODID:-//Southern Oregon Magazine - ECPv6.15.20//NONSGML v1.0//EN
CALSCALE:GREGORIAN
METHOD:PUBLISH
X-WR-CALNAME:Southern Oregon Magazine
X-ORIGINAL-URL:https://southernoregonmagazine.com
X-WR-CALDESC:Events for Southern Oregon Magazine
REFRESH-INTERVAL;VALUE=DURATION:PT1H
X-Robots-Tag:noindex
X-PUBLISHED-TTL:PT1H
BEGIN:VTIMEZONE
TZID:UTC
BEGIN:STANDARD
TZOFFSETFROM:+0000
TZOFFSETTO:+0000
TZNAME:UTC
DTSTART:20250101T000000
END:STANDARD
END:VTIMEZONE
BEGIN:VEVENT
DTSTART;TZID=UTC:20260321T130000
DTEND;TZID=UTC:20260321T150000
DTSTAMP:20260420T054705
CREATED:20260227T163332Z
LAST-MODIFIED:20260227T163332Z
UID:10000560-1774098000-1774105200@southernoregonmagazine.com
SUMMARY:Museum Lab at ScienceWorks hands on museum
DESCRIPTION:MuseumLab invites kids to turn “What if?” into real experiments on Saturdays\nIntroducing MuseumLab\, a pop-up science lab inside ScienceWorks where kids ages 6 to 12 turn curiosity into real discovery. Led by educator and former lab scientist Ash Friend\, these two-hour weekend workshops invite participants to investigate big questions through playful\, hands-on challenges inspired by museum exhibits. Kids test ideas\, collect real data\, redesign experiments\, and collaborate — all in an active\, supportive environment. \nEach session stands alone\, and space is limited\, so registration is required. A minimum of four participants must be pre-registered for a session to run. Parents are welcome to participate alongside their child\, or drop off and return at pickup time. If your child loves asking “What if?” MuseumLab is the perfect place to explore. Sessions begin March 14. \nSaturdays\n1 to 3 PM\n$25 for members | $35 for non-members | financial aid available
URL:https://southernoregonmagazine.com/event/museum-lab-at-scienceworks-hands-on-museum/2026-03-21/
LOCATION:ScienceWorks Museum
END:VEVENT
BEGIN:VEVENT
DTSTART;TZID=UTC:20260322T100000
DTEND;TZID=UTC:20260322T150000
DTSTAMP:20260420T054705
CREATED:20260227T163703Z
LAST-MODIFIED:20260227T163703Z
UID:10000586-1774173600-1774191600@southernoregonmagazine.com
SUMMARY:World Water Day at ScienceWorks
DESCRIPTION:Let your curiosity flow as you join us for World Water Day on Sunday\, March 22. Explore freshwater systems\, conservation\, and sustainable water management with hands-on activities and community partners throughout the museum and grounds. \nRogue Riverkeeper Program Manager Frances Oyung presents “Follow the Raindrops: How We Can Protect Water Quality\,” an interactive activity around the ScienceWorks grounds exploring how water moves through our landscape. Meet the Ashland Climate Collaborative\, build a beaver dam with the Rogue River Watershed Council in Pacific Crest Cove\, create a DIY water filter in the Tinkering Studio\, and catch a cloud demo at Exploration Station. \nPlus\, experience Ripple Effect: Hands-On with Hydrodynamics\, our immersive exhibit where water’s movement comes to life. \nSunday\, March 22\n10 AM to 3 PM\nFree with membership or admission
URL:https://southernoregonmagazine.com/event/world-water-day-at-scienceworks/
LOCATION:ScienceWorks Museum
END:VEVENT
BEGIN:VEVENT
DTSTART;TZID=UTC:20260322T103000
DTEND;TZID=UTC:20260322T130000
DTSTAMP:20260420T054705
CREATED:20250904T162711Z
LAST-MODIFIED:20250904T162711Z
UID:10000275-1774175400-1774184400@southernoregonmagazine.com
SUMMARY:Sunday Brunch at Rellik Winery
DESCRIPTION:Classic Sunday Brunch\nEvery Sunday 10:30am-1:00pm\n\n\n\n\n \n\n\n\nJoin us for Sunday Brunch at Rellik\, where fresh\, classic ingredients take center stage in every dish. Pair your meal with one of our flavorful mimosas – crafted to complement the morning sunshine and vineyard views. It’s the perfect way to slow down\, sip\, and savor your Sunday.
URL:https://southernoregonmagazine.com/event/sunday-brunch-at-rellik-winery-3/2026-03-22/
LOCATION:Rellik Winery
END:VEVENT
END:VCALENDAR