BEGIN:VCALENDAR
VERSION:2.0
PRODID:-//Southern Oregon Magazine - ECPv6.15.20//NONSGML v1.0//EN
CALSCALE:GREGORIAN
METHOD:PUBLISH
X-ORIGINAL-URL:https://southernoregonmagazine.com
X-WR-CALDESC:Events for Southern Oregon Magazine
REFRESH-INTERVAL;VALUE=DURATION:PT1H
X-Robots-Tag:noindex
X-PUBLISHED-TTL:PT1H
BEGIN:VTIMEZONE
TZID:UTC
BEGIN:STANDARD
TZOFFSETFROM:+0000
TZOFFSETTO:+0000
TZNAME:UTC
DTSTART:20250101T000000
END:STANDARD
END:VTIMEZONE
BEGIN:VEVENT
DTSTART;TZID=UTC:20260323T090000
DTEND;TZID=UTC:20260327T150000
DTSTAMP:20260418T100123
CREATED:20251231T211645Z
LAST-MODIFIED:20251231T211719Z
UID:10000538-1774256400-1774623600@southernoregonmagazine.com
SUMMARY:Spring Break Camp at ScienceWorks: Color Chemistry
DESCRIPTION:Explore the science of color! In this hands-on camp\, campers will create their own pigments\, design kaleidoscopes\, and investigate spectroscopes. Through experiments\, colorful art projects\, and scientific surprises\, they’ll uncover the chemistry behind every shade of the rainbow.\nSpring Break Camp: Color Chemistry\n  \nMarch 23 – 27\n9 AM to 3 PM\nAges 6 to 12\nCost: $310 members | $345 non-members\nWe’re excited to offer scholarship opportunities\, thanks to the generosity of AllCare Health.
URL:https://southernoregonmagazine.com/event/spring-break-camp-at-scienceworks-color-chemistry/
LOCATION:ScienceWorks Museum
END:VEVENT
BEGIN:VEVENT
DTSTART;TZID=UTC:20260327T173000
DTEND;TZID=UTC:20260327T190000
DTSTAMP:20260418T100123
CREATED:20260225T180655Z
LAST-MODIFIED:20260225T180655Z
UID:10000549-1774632600-1774638000@southernoregonmagazine.com
SUMMARY:Wine Education Class at Del Rio Vineyards
DESCRIPTION:Together with Del Rio Winemaker Jean-Michel\, you will explore a curated selection of wines while learning about the craft\, the stories behind the bottles and what makes them special. This event is open to all\, come indulge in a evening taking you on a deeper dive into the world of wine.
URL:https://southernoregonmagazine.com/event/wine-education-class-at-del-rio-vineyards/
LOCATION:Del Rio Vineyard\, 52 N River Road\, Gold Hill\, OR
END:VEVENT
BEGIN:VEVENT
DTSTART;TZID=UTC:20260328T130000
DTEND;TZID=UTC:20260328T150000
DTSTAMP:20260418T100123
CREATED:20260227T163332Z
LAST-MODIFIED:20260227T163332Z
UID:10000561-1774702800-1774710000@southernoregonmagazine.com
SUMMARY:Museum Lab at ScienceWorks hands on museum
DESCRIPTION:MuseumLab invites kids to turn “What if?” into real experiments on Saturdays\nIntroducing MuseumLab\, a pop-up science lab inside ScienceWorks where kids ages 6 to 12 turn curiosity into real discovery. Led by educator and former lab scientist Ash Friend\, these two-hour weekend workshops invite participants to investigate big questions through playful\, hands-on challenges inspired by museum exhibits. Kids test ideas\, collect real data\, redesign experiments\, and collaborate — all in an active\, supportive environment. \nEach session stands alone\, and space is limited\, so registration is required. A minimum of four participants must be pre-registered for a session to run. Parents are welcome to participate alongside their child\, or drop off and return at pickup time. If your child loves asking “What if?” MuseumLab is the perfect place to explore. Sessions begin March 14. \nSaturdays\n1 to 3 PM\n$25 for members | $35 for non-members | financial aid available
URL:https://southernoregonmagazine.com/event/museum-lab-at-scienceworks-hands-on-museum/2026-03-28/
LOCATION:ScienceWorks Museum
END:VEVENT
BEGIN:VEVENT
DTSTART;TZID=UTC:20260329T103000
DTEND;TZID=UTC:20260329T130000
DTSTAMP:20260418T100123
CREATED:20250904T162711Z
LAST-MODIFIED:20250904T162711Z
UID:10000276-1774780200-1774789200@southernoregonmagazine.com
SUMMARY:Sunday Brunch at Rellik Winery
DESCRIPTION:Classic Sunday Brunch\nEvery Sunday 10:30am-1:00pm\n\n\n\n\n \n\n\n\nJoin us for Sunday Brunch at Rellik\, where fresh\, classic ingredients take center stage in every dish. Pair your meal with one of our flavorful mimosas – crafted to complement the morning sunshine and vineyard views. It’s the perfect way to slow down\, sip\, and savor your Sunday.
URL:https://southernoregonmagazine.com/event/sunday-brunch-at-rellik-winery-3/2026-03-29/
LOCATION:Rellik Winery
END:VEVENT
BEGIN:VEVENT
DTSTART;TZID=UTC:20260329T150000
DTEND;TZID=UTC:20260329T170000
DTSTAMP:20260418T100123
CREATED:20260225T181016Z
LAST-MODIFIED:20260225T181016Z
UID:10000550-1774796400-1774803600@southernoregonmagazine.com
SUMMARY:Solo Sunday at Del Rio Vineyards with Bim Jeam and the Sadness
DESCRIPTION:Enjoy an afternoon of complimentary music in the comfort of our cozy tasting room.\nIndoor seating is limited\, no pets please.
URL:https://southernoregonmagazine.com/event/solo-sunday-at-del-rio-vineyards-with-bim-jeam-and-the-sadness/
LOCATION:Del Rio Vineyard\, 52 N River Road\, Gold Hill\, OR
END:VEVENT
END:VCALENDAR