BEGIN:VCALENDAR
VERSION:2.0
PRODID:-//Southern Oregon Magazine - ECPv6.15.20//NONSGML v1.0//EN
CALSCALE:GREGORIAN
METHOD:PUBLISH
X-WR-CALNAME:Southern Oregon Magazine
X-ORIGINAL-URL:https://southernoregonmagazine.com
X-WR-CALDESC:Events for Southern Oregon Magazine
REFRESH-INTERVAL;VALUE=DURATION:PT1H
X-Robots-Tag:noindex
X-PUBLISHED-TTL:PT1H
BEGIN:VTIMEZONE
TZID:UTC
BEGIN:STANDARD
TZOFFSETFROM:+0000
TZOFFSETTO:+0000
TZNAME:UTC
DTSTART:20250101T000000
END:STANDARD
END:VTIMEZONE
BEGIN:VEVENT
DTSTART;TZID=UTC:20260501T110000
DTEND;TZID=UTC:20260501T190000
DTSTAMP:20260419T193009
CREATED:20260225T182519Z
LAST-MODIFIED:20260225T182519Z
UID:10000554-1777633200-1777662000@southernoregonmagazine.com
SUMMARY:First Friday Happy Hour at Del Rio Vineyards with live music and extended hours
DESCRIPTION:We’re keeping the Tasting Room open for Happy Hour! All glasses are $7\nFeaturing live music from 5 – 7 p.m.\nIndoor seating is limited\, no pets please.
URL:https://southernoregonmagazine.com/event/first-friday-happy-hour-at-del-rio-vineyards-with-live-music-and-extended-hours/
LOCATION:Del Rio Vineyard\, 52 N River Road\, Gold Hill\, OR
END:VEVENT
BEGIN:VEVENT
DTSTART;TZID=UTC:20260502T110000
DTEND;TZID=UTC:20260502T170000
DTSTAMP:20260419T193009
CREATED:20260225T182730Z
LAST-MODIFIED:20260225T182924Z
UID:10000555-1777719600-1777741200@southernoregonmagazine.com
SUMMARY:Roam The Rogue Upper Rogue Wine Trail experience
DESCRIPTION:Roam the Rogue is the perfect way experience the Upper Rogue region of our valley. Wine’d through the beautiful and scenic Upper Rogue in this self-guided tour from 11-5pm on Saturday and savor 2 wines and 2 deliciously paired appetizers at all 6 participating wineries. Your ticket purchase also includes a commemorative Riedel wine glass to keep. Designated Driver tickets are available at $15 each and include appetizers and non-alcoholic beverage. \n \n 
URL:https://southernoregonmagazine.com/event/roam-the-rogue-2/
LOCATION:Del Rio Vineyard\, 52 N River Road\, Gold Hill\, OR
END:VEVENT
BEGIN:VEVENT
DTSTART;TZID=UTC:20260502T130000
DTEND;TZID=UTC:20260502T150000
DTSTAMP:20260419T193009
CREATED:20260227T163332Z
LAST-MODIFIED:20260227T163332Z
UID:10000566-1777726800-1777734000@southernoregonmagazine.com
SUMMARY:Museum Lab at ScienceWorks hands on museum
DESCRIPTION:MuseumLab invites kids to turn “What if?” into real experiments on Saturdays\nIntroducing MuseumLab\, a pop-up science lab inside ScienceWorks where kids ages 6 to 12 turn curiosity into real discovery. Led by educator and former lab scientist Ash Friend\, these two-hour weekend workshops invite participants to investigate big questions through playful\, hands-on challenges inspired by museum exhibits. Kids test ideas\, collect real data\, redesign experiments\, and collaborate — all in an active\, supportive environment. \nEach session stands alone\, and space is limited\, so registration is required. A minimum of four participants must be pre-registered for a session to run. Parents are welcome to participate alongside their child\, or drop off and return at pickup time. If your child loves asking “What if?” MuseumLab is the perfect place to explore. Sessions begin March 14. \nSaturdays\n1 to 3 PM\n$25 for members | $35 for non-members | financial aid available
URL:https://southernoregonmagazine.com/event/museum-lab-at-scienceworks-hands-on-museum/2026-05-02/
LOCATION:ScienceWorks Museum
END:VEVENT
BEGIN:VEVENT
DTSTART;TZID=UTC:20260503T103000
DTEND;TZID=UTC:20260503T130000
DTSTAMP:20260419T193009
CREATED:20250904T162711Z
LAST-MODIFIED:20250904T162711Z
UID:10000281-1777804200-1777813200@southernoregonmagazine.com
SUMMARY:Sunday Brunch at Rellik Winery
DESCRIPTION:Classic Sunday Brunch\nEvery Sunday 10:30am-1:00pm\n\n\n\n\n \n\n\n\nJoin us for Sunday Brunch at Rellik\, where fresh\, classic ingredients take center stage in every dish. Pair your meal with one of our flavorful mimosas – crafted to complement the morning sunshine and vineyard views. It’s the perfect way to slow down\, sip\, and savor your Sunday.
URL:https://southernoregonmagazine.com/event/sunday-brunch-at-rellik-winery-3/2026-05-03/
LOCATION:Rellik Winery
END:VEVENT
END:VCALENDAR