BEGIN:VCALENDAR
VERSION:2.0
PRODID:-//Southern Oregon Magazine - ECPv6.15.20//NONSGML v1.0//EN
CALSCALE:GREGORIAN
METHOD:PUBLISH
X-ORIGINAL-URL:https://southernoregonmagazine.com
X-WR-CALDESC:Events for Southern Oregon Magazine
REFRESH-INTERVAL;VALUE=DURATION:PT1H
X-Robots-Tag:noindex
X-PUBLISHED-TTL:PT1H
BEGIN:VTIMEZONE
TZID:UTC
BEGIN:STANDARD
TZOFFSETFROM:+0000
TZOFFSETTO:+0000
TZNAME:UTC
DTSTART:20230101T000000
END:STANDARD
END:VTIMEZONE
BEGIN:VEVENT
DTSTART;VALUE=DATE:20240524
DTEND;VALUE=DATE:20240528
DTSTAMP:20260424T044737
CREATED:20240611T014341Z
LAST-MODIFIED:20240611T014405Z
UID:10000070-1716508800-1716854399@southernoregonmagazine.com
SUMMARY:9th Annual Rogue World Music Festival
DESCRIPTION: 9th Annual Ashland World Music Festival \n https://www.rogueworldmusic.org/festival \n2024 Rogue World Music Festival Events (All events are FREE):   \n\n\nPercussion Workshop: Friday\, May 24th. 4 – 5:30 pm. Pear Blossom Park. Medford. \n\n\nPear Blossom Park Concert: Friday\, May 24th. 6 – 8 pm. Pear Blossom Park. Medford. \n\n\nSongWeavers Circle: Saturday\, May 25th. 2:30 – 4 pm. Commons Library Park. Talent. \n\n\nThe HeartBeat Stories: Saturday\, May 25th. 5 – 7pm. Commons Library Park. Talent. \n\n\nPark Performances: Sunday\, May 26. 12 – 6 pm. Litha Park Butler Bandshell. Ashland. \n\n\nMusician Talk Back: Monday\, May 27. 11 – 12:30 pm.OSF Greenshow Stage. Ashland. \n\n\n2024 RWMF Artists: \n\n\nLa Doña: 2024 RWMF events- Park Performances. \n\n\nSeffarine: 2024 RWMF events- HeartBeat Stories\, Park Performances\, & Musician Talk Back. \n\n\nRenegade Orchestra: 2024 RWMF events- Pear Blossom Park Concert. \n\n\nJohn Mambira: 2024 RWMF events- Percussion Workshop\, HeartBeat Stories\, & Park Performances (with the John Mambira Band.) \n\n\nDirty Cello: 2024 RWMF events- Pear Blossom Park Concert. \n\n\nDuniya: 2024 RWMF events- Park Performances. \n\n\nMaraval Road: 2024 RWMF events- Park Performances. \n\n\nHālau Hula Ka Pi’o Ke Ānuenue: 2024 RWMF events- Park Performances. \n\n\nRuth Hoffecker: 2024 RWMF events- SongWeaver Circle & HeartBeat Stories.
URL:https://southernoregonmagazine.com/event/9th-annual-rogue-world-music-festival/
LOCATION:Ashland/Medford/Talent
ATTACH;FMTTYPE=image/jpeg:https://southernoregonmagazine.com/wp-content/uploads/2024/06/AshlandWorldMusicFestival4-1-_fitbox_300x120.jpg
END:VEVENT
END:VCALENDAR