BEGIN:VCALENDAR
VERSION:2.0
PRODID:-//Southern Oregon Magazine - ECPv6.15.20//NONSGML v1.0//EN
CALSCALE:GREGORIAN
METHOD:PUBLISH
X-ORIGINAL-URL:https://southernoregonmagazine.com
X-WR-CALDESC:Events for Southern Oregon Magazine
REFRESH-INTERVAL;VALUE=DURATION:PT1H
X-Robots-Tag:noindex
X-PUBLISHED-TTL:PT1H
BEGIN:VTIMEZONE
TZID:UTC
BEGIN:STANDARD
TZOFFSETFROM:+0000
TZOFFSETTO:+0000
TZNAME:UTC
DTSTART:20240101T000000
END:STANDARD
END:VTIMEZONE
BEGIN:VEVENT
DTSTART;TZID=UTC:20250407T080000
DTEND;TZID=UTC:20250412T170000
DTSTAMP:20260425T170429
CREATED:20250326T022541Z
LAST-MODIFIED:20250326T022541Z
UID:10000167-1744012800-1744477200@southernoregonmagazine.com
SUMMARY:Kamome Festival - Crescent City\, CA
DESCRIPTION:Kamome Festival Commemorates the 12 Year Anniversary of When the Tiny Barnacled Covered Boat Washed Ashore in Crescent City\, California \nThe annual festival celebrates 12 years from when the boat\, Kamome\, was discovered on the shores of Crescent City with a Japanese-themed restaurant week and dozens of free activities for all-ages honoring Crescent City’s connection and Sister City relationship with Rikuzentakata\, Japan. The festival ends with a special Taste of Japan culinary and entertainment experience on Saturday evening\, April 12\, 2025 with proceeds going to the Kamome Foundation and Del Norte High School’s Japan Club \nhttp://www.kamomefestival.com/ 
URL:https://southernoregonmagazine.com/event/kamome-festival-crescent-city-ca/
LOCATION:Crescent City\, CA\, Crescent City\, CA\, CA
ATTACH;FMTTYPE=image/jpeg:https://southernoregonmagazine.com/wp-content/uploads/2025/03/kamome-festival-poster-2025-web.jpg
END:VEVENT
END:VCALENDAR