BEGIN:VCALENDAR
VERSION:2.0
PRODID:-//Southern Oregon Magazine - ECPv6.15.20//NONSGML v1.0//EN
CALSCALE:GREGORIAN
METHOD:PUBLISH
X-WR-CALNAME:Southern Oregon Magazine
X-ORIGINAL-URL:https://southernoregonmagazine.com
X-WR-CALDESC:Events for Southern Oregon Magazine
REFRESH-INTERVAL;VALUE=DURATION:PT1H
X-Robots-Tag:noindex
X-PUBLISHED-TTL:PT1H
BEGIN:VTIMEZONE
TZID:UTC
BEGIN:STANDARD
TZOFFSETFROM:+0000
TZOFFSETTO:+0000
TZNAME:UTC
DTSTART:20240101T000000
END:STANDARD
END:VTIMEZONE
BEGIN:VEVENT
DTSTART;TZID=UTC:20251005T130000
DTEND;TZID=UTC:20251005T170000
DTSTAMP:20260421T205052
CREATED:20250826T150030Z
LAST-MODIFIED:20250902T154222Z
UID:10000219-1759669200-1759683600@southernoregonmagazine.com
SUMMARY:Hope Fest at RoxyAnn Winery benefitting The Atrium Foundation
DESCRIPTION:Let’s come together to raise $10\,000 to empower cancer patients to thrive through cancer and beyond. The Atrium Foundation helps cancer patients and their families pay living\, health wellness\, medical\, and mental health expenses. www.atriumfoundation.org \n \n$25 per person includes a spin and win ticket \n$250 for VIP includes 4 tickets\, a bottle of wine\, and business promotion
URL:https://southernoregonmagazine.com/event/hope-fest-at-roxy-ann-winery-benefitting-the-atrium-foundation/
LOCATION:Roxy Ann Winery\, 3283 Hillcrest Rd\, Medford\, OR
END:VEVENT
END:VCALENDAR