BEGIN:VCALENDAR
VERSION:2.0
PRODID:-//Southern Oregon Magazine - ECPv6.15.20//NONSGML v1.0//EN
CALSCALE:GREGORIAN
METHOD:PUBLISH
X-ORIGINAL-URL:https://southernoregonmagazine.com
X-WR-CALDESC:Events for Southern Oregon Magazine
REFRESH-INTERVAL;VALUE=DURATION:PT1H
X-Robots-Tag:noindex
X-PUBLISHED-TTL:PT1H
BEGIN:VTIMEZONE
TZID:UTC
BEGIN:STANDARD
TZOFFSETFROM:+0000
TZOFFSETTO:+0000
TZNAME:UTC
DTSTART:20230101T000000
END:STANDARD
END:VTIMEZONE
BEGIN:VEVENT
DTSTART;TZID=UTC:20240120T140000
DTEND;TZID=UTC:20240120T153000
DTSTAMP:20260422T115036
CREATED:20240607T235606Z
LAST-MODIFIED:20240607T235638Z
UID:10000005-1705759200-1705764600@southernoregonmagazine.com
SUMMARY:Hear & Now Free Concert
DESCRIPTION:“HEAR & NOW: Creating a place with music” is a gift to the community from Central Oregon-based professional musicians Gary Ruppert\, piano and Ryan Zwahlen\, flute and oboe. The concert is free with donations gratefully welcomed. All proceeds benefit Sunriver Music Festival’s Steinway Piano Fund. \nThis concert of beautiful programmatic music is 2pm Saturday\, January 20 at Sunriver Christian Fellowship\, 18139 Cottonwood Road. In the performers’ words\, “Listening to music is a creative process in which each listener constructs their own meaning from a musical experience. This program will help guide you\, as a listener\, in developing multiple options for what each piece might mean. What do you hear now\, in this place\, that creates meaning for you?” Compositions by Florence Price\, Maurice Ravel\, and more grace this program with abundant opportunities for creative listening and musical imagery. \nMore About the Performers: \nRyan Zwahlen is a musician\, educator\, and entrepreneur. As an oboist\, he has performed with the LA Phil\, performed and recorded with the San Diego Symphony\, and performed with numerous groups throughout Southern and Northern California. Since arriving in the Pacific Northwest\, Ryan has become a sub with the Eugene Symphony\, Rogue Valley Symphony\, Portland Opera\, and Portland Ballet. He currently serves as Principal Oboe of the Central Oregon Symphony\, Central Oregon Chamber Orchestra\, and Opera Bend. Ryan is on the faculty of Young Musicians and Artists\, is Education and Outreach Coordinator with the Central Oregon Symphony Association\, and from 2010-2014\, he was Music Department Chair and faculty at the Idyllwild Arts Academy\, a boarding high school for the arts in Southern California. As an entrepreneur\, Ryan built a music school from the ground up in Redwood City\, CA with 20 faculty members and over 300 students. Ryan served as Executive Director of The Definiens Project\, a new music chamber ensemble\, in Los Angeles\, and has been the founding member of many chamber ensembles. \nGary Ruppert\, a classical and jazz pianist\, has been a performer and educator in Oregon for more than 45 years. He is a multifaceted musician\, having worked as Assistant Musical Director in professional summer stock theater\, a guest soloist with symphonies on multiple occasions\, a church choir director\, and jazz performer in many locations around Oregon and California. His entire career has been centered around helping audiences better understand and appreciate what they are listening to\, no matter what style that may be. As a past president of Oregon Music Teachers’ Association and original author of their jazz syllabus\, music faculty member\, Chair of Performing Arts\, and later Dean of Liberal Arts\, Gary has a comprehensive grasp of education and the need for a broad-based understanding of all the arts. \nSunriver Music Festival is a year-round nonprofit presenting world-class orchestral performances and supporting music education throughout Central Oregon. Through a commitment to excellence\, collaboration and innovation\, the Festival seeks to foster a lifelong love of classical music in its many diverse forms. Visit sunrivermusic.org for more information.
URL:https://southernoregonmagazine.com/event/hear-now-free-concert/
LOCATION:Sunriver Christian Fellowship\, 18139 Cottonwood Rd\, Sunriver\, OR\, 97707\, United States
ATTACH;FMTTYPE=image/png:https://southernoregonmagazine.com/wp-content/uploads/2024/06/SRMFLogoRGB_fitbox_300x120-1.png
END:VEVENT
END:VCALENDAR